BEGIN:VCALENDAR
VERSION:2.0
PRODID:-//ChamberMaster//Event Calendar 2.0//EN
METHOD:PUBLISH
X-PUBLISHED-TTL:P3D
REFRESH-INTERVAL:P3D
CALSCALE:GREGORIAN
BEGIN:VEVENT
DTSTART:20191017T220000Z
DTEND:20191017T233000Z
X-MICROSOFT-CDO-ALLDAYEVENT:FALSE
SUMMARY:New Directions Presents Knox Knows More
DESCRIPTION:In honor of Domestic Violence Awareness Month\, New Directions is presenting a 4-Part Event Series throughout the month of October.  \n\n\n\nPart 3/4 Survivors Tell Their Story\n\nSurvivors of domestic violence return to Knox County to speak for Domestic Violence Awareness Month.  Join us as we support these individuals as they share the story of their journey toward safety and healing.  Check out the New Directions Facebook Page for more details.
X-ALT-DESC;FMTTYPE=text/html:<span style="color: rgb(51\, 51\, 51)\; font-family: sans-serif\, Arial\, Verdana\, &quot\;Trebuchet MS&quot\;\; font-size: 13px\; background-color: rgb(255\, 255\, 255)\;">In honor of Domestic Violence Awareness Month\, New Directions is presenting a 4-Part Event Series throughout the month of October.&nbsp\;&nbsp\;</span><br />\n<br />\nPart 3/4 Survivors Tell Their Story<br />\nSurvivors of domestic violence return to Knox County to speak for Domestic Violence Awareness Month.&nbsp\; Join us as we support these individuals as they share the story of their journey toward safety and healing.&nbsp\; Check out the New Directions Facebook Page for more details.&nbsp\;&nbsp\;&nbsp\;&nbsp\;&nbsp\;
LOCATION:Community Foundation Pavilion\, Ariel-Foundation Park
UID:e.2893.4631
SEQUENCE:3
DTSTAMP:20260421T040056Z
URL:http://knoxchamber.smartcms.site/events/details/new-directions-presents-knox-knows-more-4631
END:VEVENT

END:VCALENDAR
