BEGIN:VCALENDAR
VERSION:2.0
PRODID:-//ChamberMaster//Event Calendar 2.0//EN
METHOD:PUBLISH
X-PUBLISHED-TTL:P3D
REFRESH-INTERVAL:P3D
CALSCALE:GREGORIAN
BEGIN:VEVENT
DTSTART:20191001T223000Z
DTEND:20191001T233000Z
X-MICROSOFT-CDO-ALLDAYEVENT:FALSE
SUMMARY:New Directions Presents Knox Knows More
DESCRIPTION:In honor of Domestic Violence Awareness Month\, New Directions is presenting a 4-Part Event Series throughout the month of October.  \n\n\n\nPart 1/4 The Importance of Renewed Partnership\n\nLori Jones-Perkins with representatives from law enforcement will share the value of the new system of responding to domestic violence calls in Knox County.
X-ALT-DESC;FMTTYPE=text/html:In honor of Domestic Violence Awareness Month\, New Directions is presenting a 4-Part Event Series throughout the month of October.&nbsp\;&nbsp\;<br />\n<br />\nPart 1/4 The Importance of Renewed Partnership<br />\nLori Jones-Perkins with representatives from law enforcement will share the value of the new system of responding to domestic violence calls in Knox County.&nbsp\;&nbsp\;&nbsp\;&nbsp\;&nbsp\;&nbsp\;&nbsp\;&nbsp\;&nbsp\;
LOCATION:Urton Clock House\, Ariel-Foundation Park
UID:e.2893.4629
SEQUENCE:3
DTSTAMP:20260421T041330Z
URL:http://knoxchamber.smartcms.site/events/details/new-directions-presents-knox-knows-more-4629
END:VEVENT

END:VCALENDAR
