BEGIN:VCALENDAR
VERSION:2.0
PRODID:-//ChamberMaster//Event Calendar 2.0//EN
METHOD:PUBLISH
X-PUBLISHED-TTL:P3D
REFRESH-INTERVAL:P3D
CALSCALE:GREGORIAN
BEGIN:VEVENT
DTSTART;VALUE=DATE:20181102
DTEND;VALUE=DATE:20181117
TRANSP:TRANSPARENT
X-MICROSOFT-CDO-ALLDAYEVENT:TRUE
SUMMARY:New Directions & MVNU Photo Exhibit
DESCRIPTION:November 2nd through the 16th\, the Schnormeier Gallery will host\, Photovoices Research Project.  The Mount Vernon Nazarene University in conjunction with New Directions invite you to the gallery.  Survivors of domestic violence or sexual assault are sharing their stories through pictures.
X-ALT-DESC;FMTTYPE=text/html:November 2nd through the 16th\, the Schnormeier Gallery will host\, <strong>Photovoices Research Project.</strong>&nbsp\; The Mount Vernon Nazarene University in conjunction with New Directions invite you to the gallery.&nbsp\; Survivors of domestic violence or sexual assault are sharing their stories through pictures.
LOCATION:Schnormeier Gallery is location at 221 South Main Street in Mount Vernon.
UID:e.2893.3639
SEQUENCE:3
DTSTAMP:20260422T011202Z
URL:http://knoxchamber.smartcms.site/events/details/new-directions-mvnu-photo-exhibit-3639
END:VEVENT

END:VCALENDAR
