BEGIN:VCALENDAR
VERSION:2.0
PRODID:-//ChamberMaster//Event Calendar 2.0//EN
METHOD:PUBLISH
X-PUBLISHED-TTL:P3D
REFRESH-INTERVAL:P3D
CALSCALE:GREGORIAN
BEGIN:VEVENT
DTSTART:20211028T153000Z
DTEND:20211028T173000Z
X-MICROSOFT-CDO-ALLDAYEVENT:FALSE
SUMMARY:New Directions Campaign Kick Off
DESCRIPTION:Join New Directions Thursday\, October 28th\, as they celebrate their Capital Campaign open house!  Sharing their campaign goals and future plans for New Directions.
X-ALT-DESC;FMTTYPE=text/html:Join New Directions Thursday\, October 28th\, as they celebrate their Capital Campaign open house!&nbsp\; Sharing their campaign goals and future plans for New Directions.&nbsp\;
LOCATION:Woodward Opera House
UID:e.2893.5048
SEQUENCE:3
DTSTAMP:20260421T103700Z
URL:http://knoxchamber.smartcms.site/events/details/new-directions-campaign-kick-off-5048
END:VEVENT

END:VCALENDAR
