BEGIN:VCALENDAR
VERSION:2.0
PRODID:-//ChamberMaster//Event Calendar 2.0//EN
METHOD:PUBLISH
X-PUBLISHED-TTL:P3D
REFRESH-INTERVAL:P3D
CALSCALE:GREGORIAN
BEGIN:VEVENT
DTSTART:20180315T213000Z
DTEND:20180316T000000Z
X-MICROSOFT-CDO-ALLDAYEVENT:FALSE
SUMMARY:New Directions Annual Benefit Dinner
DESCRIPTION:SAVE THE DATE\n\n\n\nNew Directions\, The Domestic Abuse Shelter and Rape Crisis Center of Knox County will hold it's eighth annual fundraising dinner on Thursday\, March 15 at 5:30pm in Thomas Hall (Pierce Hall) at Kenyon College. \n\n\n\nA minimum $100 per person donation is requested for dinner. \n\n\n\nFor questions\, please contact New Directions at 740-397-4357 or by email at info@newdirectionsshelter.org.
X-ALT-DESC;FMTTYPE=text/html:<span style="font-size:18px\;"><strong>SAVE THE DATE</strong></span><br />\n<br />\nNew Directions\, The Domestic Abuse Shelter and Rape Crisis Center of Knox County will hold it&#39\;s eighth annual fundraising dinner on Thursday\, March 15 at 5:30pm in Thomas Hall (Pierce Hall) at Kenyon College.&nbsp\;<br />\n<br />\nA minimum $100 per person donation is requested for dinner.&nbsp\;<br />\n<br />\nFor questions\, please contact New Directions at 740-397-4357 or by email at info@newdirectionsshelter.org.
LOCATION:
UID:e.2893.2541
SEQUENCE:3
DTSTAMP:20260422T123655Z
URL:http://knoxchamber.smartcms.site/events/details/new-directions-annual-benefit-dinner-2541
END:VEVENT

END:VCALENDAR
