BEGIN:VCALENDAR
VERSION:2.0
PRODID:-//ChamberMaster//Event Calendar 2.0//EN
METHOD:PUBLISH
X-PUBLISHED-TTL:P3D
REFRESH-INTERVAL:P3D
CALSCALE:GREGORIAN
BEGIN:VEVENT
DTSTART:20170109T223000Z
DTEND:20170110T000000Z
X-MICROSOFT-CDO-ALLDAYEVENT:FALSE
SUMMARY:Networking: Perfecting your 30 Second Elevator
DESCRIPTION:Registration is required\n\nTo register\, please call Falon Allen at NECIC\n\n419-525-3101 or email falon@necis-ohio.org\n\nPrograms will be held at:\n\nNorth End Community Improvment Collaborative Community Room\n\n199 North Main Street\, Mansfield OH 44902
X-ALT-DESC;FMTTYPE=text/html:<p>Registration is required</p>\n\n<p>To register\, please call Falon Allen at NECIC</p>\n\n<p>419-525-3101 or email falon@necis-ohio.org</p>\n\n<p>Programs will be held at:</p>\n\n<p>North End Community Improvment Collaborative Community Room</p>\n\n<p>199 North Main Street\, Mansfield OH 44902</p>\n
LOCATION:199 North Main Street\, Mansfield OH 44902
UID:e.2893.1105
SEQUENCE:3
DTSTAMP:20260423T161306Z
URL:http://knoxchamber.smartcms.site/events/details/networking-perfecting-your-30-second-elevator-1105
END:VEVENT

END:VCALENDAR
