BEGIN:VCALENDAR
VERSION:2.0
PRODID:-//ChamberMaster//Event Calendar 2.0//EN
METHOD:PUBLISH
X-PUBLISHED-TTL:P3D
REFRESH-INTERVAL:P3D
CALSCALE:GREGORIAN
BEGIN:VEVENT
DTSTART:20171127T230000Z
DTEND:20171128T020000Z
X-MICROSOFT-CDO-ALLDAYEVENT:FALSE
SUMMARY:Navigate the Holidaze with Oils class
DESCRIPTION:Oily Outriders - Young Living Essential Oils invites you to a "Navigate the Holidaze with Oils " class on November 27th from 6:00pm to 9:00 in the Chamber Conference room\, located at 400 South Gay Street\, Mount Vernon. No registration necessary.
X-ALT-DESC;FMTTYPE=text/html:<span style="font-size:14px\;"><span style="color: rgb(0\, 0\, 0)\; font-family: Georgia\, &quot\;Times New Roman&quot\;\, Times\, serif\;">Oily Outriders - Young Living Essential Oils invites you to a&nbsp\;</span><span style="color: rgb(0\, 0\, 0)\; font-family: Georgia\, &quot\;Times New Roman&quot\;\, Times\, serif\;">&quot\;Navigate the Holidaze with Oils &quot\; class on November 27th from 6:00pm to 9:00 in the Chamber Conference room\, located at 400 South Gay Street\, Mount Vernon. No registration necessary.</span></span>
LOCATION:
UID:e.2893.2520
SEQUENCE:3
DTSTAMP:20260422T193456Z
URL:http://knoxchamber.smartcms.site/events/details/navigate-the-holidaze-with-oils-class-2520
END:VEVENT

END:VCALENDAR
