BEGIN:VCALENDAR
VERSION:2.0
PRODID:-//ChamberMaster//Event Calendar 2.0//EN
METHOD:PUBLISH
X-PUBLISHED-TTL:P3D
REFRESH-INTERVAL:P3D
CALSCALE:GREGORIAN
BEGIN:VEVENT
DTSTART:20200723T233000Z
DTEND:20200724T003000Z
X-MICROSOFT-CDO-ALLDAYEVENT:FALSE
SUMMARY:Nature Therapy Walk (Forest Bathing Sampler)
DESCRIPTION:Shinrin-yoku\, or "taking in the forest atmosphere\," is the simple but profound practice of walking through a forest and opening your senses. Experience for yourself what research has told us for years   that spending time in nature can boost your immune system\, lower blood pressure\, accelerate healing\, and so much more. Jill Emmelhainz\, a certified Forest Therapy Guide\, will show us how to use our senses to connect with nature. Rain or shine! Pre-registration required. Call NOW to reserve your spot   740-427-5052.
X-ALT-DESC;FMTTYPE=text/html:Shinrin-yoku\, or &ldquo\;taking in the forest atmosphere\,&rdquo\; is the simple but profound practice of walking through a forest and opening your senses. Experience for yourself what research has told us for years &ndash\; that spending time in nature can boost your immune system\, lower blood pressure\, accelerate healing\, and so much more. Jill Emmelhainz\, a certified Forest Therapy Guide\, will show us how to use our senses to connect with nature. Rain or shine! Pre-registration required. Call NOW to reserve your spot &ndash\; 740-427-5052.
LOCATION:
UID:e.2893.4776
SEQUENCE:3
DTSTAMP:20260420T135347Z
URL:http://knoxchamber.smartcms.site/events/details/nature-therapy-walk-forest-bathing-sampler-07-23-2020-4776
END:VEVENT

END:VCALENDAR
