BEGIN:VCALENDAR
VERSION:2.0
PRODID:-//ChamberMaster//Event Calendar 2.0//EN
METHOD:PUBLISH
X-PUBLISHED-TTL:P3D
REFRESH-INTERVAL:P3D
CALSCALE:GREGORIAN
BEGIN:VEVENT
DTSTART:20180730T130000Z
DTEND:20180803T160000Z
X-MICROSOFT-CDO-ALLDAYEVENT:FALSE
SUMMARY:Nature's Keepers Outdoor Adventure Camp at the BFEC
DESCRIPTION:For students entering grades 4\,5\,6 Let's go outside to play! Nature games\, splash in the river\, build forts in the Pine Plantation....Nature\, Art\, FUN!! For registration form call 740-427-5052 or email jordan2@kenyon.edu. Registration deadline: July 16 If one child per family: Members $60 Non-members: $75 If more than one child per family: Members $50 Non-members: $65
X-ALT-DESC;FMTTYPE=text/html:For students entering grades 4\,5\,6 Let&#39\;s go outside to play! Nature games\, splash in the river\, build forts in the Pine Plantation....Nature\, Art\, FUN!! For registration form call 740-427-5052 or email jordan2@kenyon.edu. Registration deadline: July 16 If one child per family: Members $60 Non-members: $75 If more than one child per family: Members $50 Non-members: $65
LOCATION:Brown Family Environmental Center 9781 Laymon Rd.
UID:e.2893.3732
SEQUENCE:3
DTSTAMP:20260422T043904Z
URL:http://knoxchamber.smartcms.site/events/details/nature-s-keepers-outdoor-adventure-camp-at-the-bfec-3732
END:VEVENT

END:VCALENDAR
