BEGIN:VCALENDAR
VERSION:2.0
PRODID:-//ChamberMaster//Event Calendar 2.0//EN
METHOD:PUBLISH
X-PUBLISHED-TTL:P3D
REFRESH-INTERVAL:P3D
CALSCALE:GREGORIAN
BEGIN:VEVENT
DTSTART:20210624T170000Z
DTEND:20210624T210000Z
X-MICROSOFT-CDO-ALLDAYEVENT:FALSE
SUMMARY:Nature Photography: The Art of Trees
DESCRIPTION:During these afternoon programs\, students entering 4th-6th grade will spend time outside at the Brown Family Environmental Center and they will spend time at the Gund Gallery on Kenyon's campus. All materials and equipment will be provided\, as well as snacks and water. Students will learn how to use a digital camera and spend time taking photos of trees. Then we will explore the exhibit\, The Art of Trees\, and print some of the photos they took outside. Events occur: June 24\, July 1\,8 and 15 Pre-registration is required for each individual session. To register\, call 740-427-5052 or email jordan2@kenyon.edu.
X-ALT-DESC;FMTTYPE=text/html:During these afternoon programs\, students entering 4th-6th grade will spend time outside at the Brown Family Environmental Center and they will spend time at the Gund Gallery on Kenyon&rsquo\;s campus. All materials and equipment will be provided\, as well as snacks and water. Students will learn how to use a digital camera and spend time taking photos of trees. Then we will explore the exhibit\, The Art of Trees\, and print some of the photos they took outside. Events occur: June 24\, July 1\,8 and 15 Pre-registration is required for each individual session. To register\, call 740-427-5052 or email jordan2@kenyon.edu.
LOCATION:Brown Family Environmental Center
UID:e.2893.4905
SEQUENCE:3
DTSTAMP:20260419T194614Z
URL:http://knoxchamber.smartcms.site/events/details/nature-photography-the-art-of-trees-4905
END:VEVENT

END:VCALENDAR
