BEGIN:VCALENDAR
VERSION:2.0
PRODID:-//ChamberMaster//Event Calendar 2.0//EN
METHOD:PUBLISH
X-PUBLISHED-TTL:P3D
REFRESH-INTERVAL:P3D
CALSCALE:GREGORIAN
BEGIN:VEVENT
DTSTART:20210603T170000Z
DTEND:20210603T210000Z
X-MICROSOFT-CDO-ALLDAYEVENT:FALSE
SUMMARY:Nature Journaling: The Art of Trees
DESCRIPTION:Students will make their own journal and learn the basics of sketching while exploring the exhibit\, The Art of Trees. Then we will spend time outside looking at trees from every angle and sketching in our journals. During these afternoon programs\, students entering 4th-6th grade will spend time outside at the Brown Family Environmental Center and they will spend time at the Gund Gallery on Kenyon's campus. All materials and equipment will be provided\, as well as snacks and water. Event occurs: June 3\, 10 and 17 Pre-registration is required for each individual session. To register\, call 740-427-5052 or email jordan2@kenyon.edu.
X-ALT-DESC;FMTTYPE=text/html:Students will make their own journal and learn the basics of sketching while exploring the exhibit\, The Art of Trees. Then we will spend time outside looking at trees from every angle and sketching in our journals. During these afternoon programs\, students entering 4th-6th grade will spend time outside at the Brown Family Environmental Center and they will spend time at the Gund Gallery on Kenyon&rsquo\;s campus. All materials and equipment will be provided\, as well as snacks and water. Event occurs: June 3\, 10 and 17 Pre-registration is required for each individual session. To register\, call 740-427-5052 or email jordan2@kenyon.edu.
LOCATION:Brown Family Environmental Center
UID:e.2893.4904
SEQUENCE:3
DTSTAMP:20260419T195504Z
URL:http://knoxchamber.smartcms.site/events/details/nature-journaling-the-art-of-trees-4904
END:VEVENT

END:VCALENDAR
