BEGIN:VCALENDAR
VERSION:2.0
PRODID:-//ChamberMaster//Event Calendar 2.0//EN
METHOD:PUBLISH
X-PUBLISHED-TTL:P3D
REFRESH-INTERVAL:P3D
CALSCALE:GREGORIAN
BEGIN:VEVENT
DTSTART:20180614T170000Z
DTEND:20180614T210000Z
X-MICROSOFT-CDO-ALLDAYEVENT:FALSE
SUMMARY:Nature Journaling
DESCRIPTION:FREE Summer Program at the BFEC & Gund Gallery for students entering grades 4\,5\,6 Use basic book-binding techniques to make your own journal. Learn basic sketching techniques and spend time outside sketching plants and animals. We will spend half of the day at the Gund Gallery and half of the day at BFEC.
X-ALT-DESC;FMTTYPE=text/html:FREE Summer Program at the BFEC &amp\; Gund Gallery for students entering grades 4\,5\,6 Use basic book-binding techniques to make your own journal. Learn basic sketching techniques and spend time outside sketching plants and animals. We will spend half of the day at the Gund Gallery and half of the day at BFEC.
LOCATION:
UID:e.2893.3733
SEQUENCE:3
DTSTAMP:20260422T074104Z
URL:http://knoxchamber.smartcms.site/events/details/nature-journaling-3733
END:VEVENT

END:VCALENDAR
