BEGIN:VCALENDAR
VERSION:2.0
PRODID:-//ChamberMaster//Event Calendar 2.0//EN
METHOD:PUBLISH
X-PUBLISHED-TTL:P3D
REFRESH-INTERVAL:P3D
CALSCALE:GREGORIAN
BEGIN:VEVENT
DTSTART:20190608T180000Z
DTEND:20190608T200000Z
X-MICROSOFT-CDO-ALLDAYEVENT:FALSE
SUMMARY:Native Ohio Pollinators
DESCRIPTION:Join Andrew Lybbert\, PhD candidate at OSU\, to learn about Ohio pollinators\, especially our native bumble bees. Andrew worked on the Ohio Bumble Bee Research team for the past two summers. He will discuss findings from the survey\, native plants that our native bees depend on\, and what we can do to support them.
X-ALT-DESC;FMTTYPE=text/html:Join Andrew Lybbert\, PhD candidate at OSU\, to learn about Ohio pollinators\, especially our native bumble bees. Andrew worked on the Ohio Bumble Bee Research team for the past two summers. He will discuss findings from the survey\, native plants that our native bees depend on\, and what we can do to support them.
LOCATION:Brown Family Environmental Center
UID:e.2893.4278
SEQUENCE:3
DTSTAMP:20260421T102046Z
URL:http://knoxchamber.smartcms.site/events/details/native-ohio-pollinators-4278
END:VEVENT

END:VCALENDAR
