BEGIN:VCALENDAR
VERSION:2.0
PRODID:-//ChamberMaster//Event Calendar 2.0//EN
METHOD:PUBLISH
X-PUBLISHED-TTL:P3D
REFRESH-INTERVAL:P3D
CALSCALE:GREGORIAN
BEGIN:VEVENT
DTSTART;VALUE=DATE:20170621
DTEND;VALUE=DATE:20170626
TRANSP:TRANSPARENT
X-MICROSOFT-CDO-ALLDAYEVENT:TRUE
SUMMARY:National WACO Club Reunion
DESCRIPTION:The National WACO Club host it's annual reunion at the Wynkoop Airport\, Mt Vernon\, Ohio. Members fly in and display their historic airplanes manufactured from 1924 through 1942 by the WACO Aircraft Co.\, Troy\, Ohio.
X-ALT-DESC;FMTTYPE=text/html:The National WACO Club host it&#39\;s annual reunion at the Wynkoop Airport\, Mt Vernon\, Ohio. Members fly in and display their historic airplanes manufactured from 1924 through 1942 by the WACO Aircraft Co.\, Troy\, Ohio.
LOCATION:Wynkoop Airport\, 9051 Granville Road\, Mt. Vernon\, Ohio
UID:e.2893.1278
SEQUENCE:3
DTSTAMP:20260423T063310Z
URL:http://knoxchamber.smartcms.site/events/details/national-waco-club-reunion-1278
END:VEVENT

END:VCALENDAR
