BEGIN:VCALENDAR
VERSION:2.0
PRODID:-//ChamberMaster//Event Calendar 2.0//EN
METHOD:PUBLISH
X-PUBLISHED-TTL:P3D
REFRESH-INTERVAL:P3D
CALSCALE:GREGORIAN
BEGIN:VEVENT
DTSTART:20180519T170000Z
DTEND:20180519T190000Z
X-MICROSOFT-CDO-ALLDAYEVENT:FALSE
SUMMARY:National " Kids to Parks" day
DESCRIPTION:MOUNT VERNON -- Ariel-Foundation Park will celebrate National Kids to Parks day with a special event at the park on Saturday\, May 19\, from 1-3 p.m. Kids and families can participate in a nature photo scavenger hunt\, geared for children under 12 years of age.
X-ALT-DESC;FMTTYPE=text/html:<p><span style="font-size:10.0pt\;font-family:&quot\;Verdana&quot\;\,sans-serif">MOUNT VERNON -- Ariel-Foundation Park will celebrate National Kids to Parks day with a special event at the park on Saturday\, May 19\, from 1-3 p.m. Kids and families can participate in a nature photo scavenger hunt\, geared for children under 12 years of age. <o:p></o:p></span></p>\n
LOCATION:MOUNT VERNON - Ariel-Foundation Park
UID:e.2893.3645
SEQUENCE:3
DTSTAMP:20260422T105833Z
URL:http://knoxchamber.smartcms.site/events/details/national-kids-to-parks-day-3645
END:VEVENT

END:VCALENDAR
