BEGIN:VCALENDAR
VERSION:2.0
PRODID:-//ChamberMaster//Event Calendar 2.0//EN
METHOD:PUBLISH
X-PUBLISHED-TTL:P3D
REFRESH-INTERVAL:P3D
CALSCALE:GREGORIAN
BEGIN:VEVENT
DTSTART;VALUE=DATE:20210610
DTEND;VALUE=DATE:20210611
TRANSP:TRANSPARENT
X-MICROSOFT-CDO-ALLDAYEVENT:TRUE
SUMMARY:MVNU Athletics Paw-3-Palooza
DESCRIPTION:Mount Vernon Nazarene University Cougars \nset to host the first ever Paw-3-Palooza! This one-of-a-kind event will bring a brand new golf experience to Knox County. Set at \n\nIrish Hills Golf Club\n\, the event is to take place June 10th. Mark your calendars and find out more information by clicking the link below!\n\nhttps://www.mvnucougars.com/article/3546?fbclid=IwAR1SuhYA2aTloD1rdAdzTMVhscBjdkPQwJzK0AVPZoRO6IiXtTNGXOU7mMs
X-ALT-DESC;FMTTYPE=text/html:<div class="nc684nl6" style="display: inline\; font-family: inherit\;"><span style="font-family: &quot\;Segoe UI Historic&quot\;\, &quot\;Segoe UI&quot\;\, Helvetica\, Arial\, sans-serif\; color: rgb(5\, 5\, 5)\; font-size: 15px\; white-space: pre-wrap\;"><a class="oajrlxb2 g5ia77u1 qu0x051f esr5mh6w e9989ue4 r7d6kgcz rq0escxv nhd2j8a9 nc684nl6 p7hjln8o kvgmc6g5 cxmmr5t8 oygrvhab hcukyx3x jb3vyjys rz4wbd8a qt6c0cv9 a8nywdso i1ao9s8h esuyzwwr f1sip0of lzcic4wl q66pz984 gpro0wi8 b1v8xokw" href="https://www.facebook.com/MVNU.Cougars/?__cft__[0]=AZVnqvs4fsorAcCb84wfLhgm-DVheNPvGiNt0sZpKDFvsBcvpVsbFvIeZTv0DfSz1aM5E-tmj684yDxbDvuL64ZmWidvQFgLa5zQEt8uJ2VjYPymGl2EILN_c0q97m7hhhaKAwP54jUaUaI2Bet6qOzX&amp\;__tn__=kK-R" role="link" style="color: var(--accent)\; cursor: pointer\; text-decoration-line: none\; outline: none\; list-style: none\; border-width: 0px\; border-style: initial\; border-color: initial\; padding: 0px\; margin: 0px\; touch-action: manipulation\; background-color: transparent\; text-align: inherit\; display: inline\; -webkit-tap-highlight-color: transparent\; box-sizing: border-box\; font-family: inherit\;" tabindex="0">Mount Vernon Nazarene University Cougars</a> </span></div>\n<span style="color: rgb(5\, 5\, 5)\; font-family: &quot\;Segoe UI Historic&quot\;\, &quot\;Segoe UI&quot\;\, Helvetica\, Arial\, sans-serif\; font-size: 15px\; white-space: pre-wrap\;">set to host the first ever Paw-3-Palooza! This one-of-a-kind event will bring a brand new golf experience to Knox County. Set at </span>\n\n<div class="nc684nl6" style="display: inline\; font-family: inherit\;"><span style="font-family: &quot\;Segoe UI Historic&quot\;\, &quot\;Segoe UI&quot\;\, Helvetica\, Arial\, sans-serif\; color: rgb(5\, 5\, 5)\; font-size: 15px\; white-space: pre-wrap\;"><a class="oajrlxb2 g5ia77u1 qu0x051f esr5mh6w e9989ue4 r7d6kgcz rq0escxv nhd2j8a9 nc684nl6 p7hjln8o kvgmc6g5 cxmmr5t8 oygrvhab hcukyx3x jb3vyjys rz4wbd8a qt6c0cv9 a8nywdso i1ao9s8h esuyzwwr f1sip0of lzcic4wl q66pz984 gpro0wi8 b1v8xokw" href="https://www.facebook.com/IrishHillsGolfClub/?__cft__[0]=AZVnqvs4fsorAcCb84wfLhgm-DVheNPvGiNt0sZpKDFvsBcvpVsbFvIeZTv0DfSz1aM5E-tmj684yDxbDvuL64ZmWidvQFgLa5zQEt8uJ2VjYPymGl2EILN_c0q97m7hhhaKAwP54jUaUaI2Bet6qOzX&amp\;__tn__=kK-R" role="link" style="color: var(--accent)\; cursor: pointer\; text-decoration-line: none\; outline: none\; list-style: none\; border-width: 0px\; border-style: initial\; border-color: initial\; padding: 0px\; margin: 0px\; touch-action: manipulation\; background-color: transparent\; text-align: inherit\; display: inline\; -webkit-tap-highlight-color: transparent\; box-sizing: border-box\; font-family: inherit\;" tabindex="0">Irish Hills Golf Club</a></span></div>\n<span style="color: rgb(5\, 5\, 5)\; font-family: &quot\;Segoe UI Historic&quot\;\, &quot\;Segoe UI&quot\;\, Helvetica\, Arial\, sans-serif\; font-size: 15px\; white-space: pre-wrap\;">\, the event is to take place June 10th. Mark your calendars and find out more information by clicking the link below!</span><br />\n<span style="font-size:12px\;"><span style="color:#0000FF\;"><u><strong>https://www.mvnucougars.com/article/3546?fbclid=IwAR1SuhYA2aTloD1rdAdzTMVhscBjdkPQwJzK0AVPZoRO6IiXtTNGXOU7mMs</strong></u></span></span><br />\n&nbsp\;
LOCATION:Irish Hills Golf Club 7020 Newark Road
UID:e.2893.4857
SEQUENCE:3
DTSTAMP:20260419T211834Z
URL:http://knoxchamber.smartcms.site/events/details/mvnu-athletics-paw-3-palooza-4857
END:VEVENT

END:VCALENDAR
