BEGIN:VCALENDAR
VERSION:2.0
PRODID:-//ChamberMaster//Event Calendar 2.0//EN
METHOD:PUBLISH
X-PUBLISHED-TTL:P3D
REFRESH-INTERVAL:P3D
CALSCALE:GREGORIAN
BEGIN:VEVENT
DTSTART:20231008T000000Z
DTEND:20231008T030000Z
X-MICROSOFT-CDO-ALLDAYEVENT:FALSE
SUMMARY:MVAC Presents: Pam TIllis
DESCRIPTION:Country music fans in Mount Vernon\, Ohio\, are in for a treat this October when Pam Tillis takes the stage at 8 p.m. on October 7th at the Knox Memorial Theater. \n\n \n\nPam Tillis has been a mainstay in the country music scene for more than 25 years. She has released 11 studio albums\, with her most recent\, Looking for a Feeling\, released in 2019. Tillis has earned numerous awards throughout her career\, including two Grammy Awards\, two CMA Awards\, and two ACM Awards. She has also been inducted into the Grand Ole Opry and the Nashville Songwriters Hall of Fame.
X-ALT-DESC;FMTTYPE=text/html:<span style="font-family:arial\,sans-serif\;"><span style="font-size:10.5pt\;">Country music fans in Mount Vernon\, Ohio\, are in for a treat this October when Pam Tillis takes the stage at 8 p.m. on October 7th at the Knox Memorial Theater. </span></span><br />\n&nbsp\;<br />\n<span style="font-family:arial\,sans-serif\;"><span style="font-size:10.5pt\;">Pam Tillis has been a mainstay in the country music scene for more than 25 years. She has released 11 studio albums\, with her most recent\, <em>Looking for a Feeling</em>\, released in 2019. Tillis has earned numerous awards throughout her career\, including two Grammy Awards\, two CMA Awards\, and two ACM Awards. She has also been inducted into the Grand Ole Opry and the Nashville Songwriters Hall of Fame.</span></span>
LOCATION:Knox Memorial
UID:e.2893.6390
SEQUENCE:3
DTSTAMP:20260421T085313Z
URL:http://knoxchamber.smartcms.site/events/details/mvac-presents-pam-tillis-6390
END:VEVENT

END:VCALENDAR
