BEGIN:VCALENDAR
VERSION:2.0
PRODID:-//ChamberMaster//Event Calendar 2.0//EN
METHOD:PUBLISH
X-PUBLISHED-TTL:P3D
REFRESH-INTERVAL:P3D
CALSCALE:GREGORIAN
BEGIN:VEVENT
DTSTART:20180710T170000Z
DTEND:20180710T190000Z
X-MICROSOFT-CDO-ALLDAYEVENT:FALSE
SUMMARY:Must-See Estate & Retirement Planning Workshop
DESCRIPTION:Attend this FREE event and learn  Learn about Social Security Estate Planning options available AFTER you have already claimed Understand how a will is different than a trust Discover how you can avoid the costly probate process Learn how you may be able to receive TAX FREE withdrawals from your IRA Learn how every homeowner should consider using a trust How to ensure that your family maintains control of your assets\, NOT the courts! Learn how to not lose your home and life savings should you need to go to a nursing home
X-ALT-DESC;FMTTYPE=text/html:Attend this FREE event and learn&hellip\; Learn about Social Security Estate Planning options available AFTER you have already claimed Understand how a will is different than a trust Discover how you can avoid the costly probate process Learn how you may be able to receive TAX FREE withdrawals from your IRA Learn how every homeowner should consider using a trust How to ensure that your family maintains control of your assets\, NOT the courts! Learn how to not lose your home and life savings should you need to go to a nursing home
LOCATION:Station Break 160 Howard St\, Mount Vernon\, Ohio 43050
UID:e.2893.3745
SEQUENCE:3
DTSTAMP:20260422T060827Z
URL:http://knoxchamber.smartcms.site/events/details/must-see-estate-retirement-planning-workshop-3745
END:VEVENT

END:VCALENDAR
