BEGIN:VCALENDAR
VERSION:2.0
PRODID:-//ChamberMaster//Event Calendar 2.0//EN
METHOD:PUBLISH
X-PUBLISHED-TTL:P3D
REFRESH-INTERVAL:P3D
CALSCALE:GREGORIAN
BEGIN:VEVENT
DTSTART:20170707T233000Z
DTEND:20170716T180000Z
X-MICROSOFT-CDO-ALLDAYEVENT:FALSE
SUMMARY:MTVarts Bye Bye Birdie
DESCRIPTION:Hip-thrusting music heartthrob Conrad Birdie is scheduled to give a lucky Sweet Apple lady "One Last Kiss" before being drafted into the Army. Conrad's rock 'n' roll ways send the small town reeling\, giving the teens Birdie fever\, shocking the parents with moral indignation\, and placing songwriter/agent Albert Peterson along with his savvy sweetheart\, Rosie\, right in the thick of things. The story was inspired by the incredible popularity of Elvis Presley and his induction into the Army in 1957. Director Bruce Jacklin promises a high-energy\, fun-filled show so dress up in your favorite 50's garb and bring the whole family!
X-ALT-DESC;FMTTYPE=text/html:Hip-thrusting music heartthrob Conrad Birdie is scheduled to give a lucky Sweet Apple lady &quot\;One Last Kiss&quot\; before being drafted into the Army. Conrad&#39\;s rock &#39\;n&#39\; roll ways send the small town reeling\, giving the teens Birdie fever\, shocking the parents with moral indignation\, and placing songwriter/agent Albert Peterson along with his savvy sweetheart\, Rosie\, right in the thick of things. The story was inspired by the incredible popularity of Elvis Presley and his induction into the Army in 1957. Director Bruce Jacklin promises a high-energy\, fun-filled show so dress up in your favorite 50&#39\;s garb and bring the whole family!
LOCATION:Memorial Theatre
UID:e.2893.1399
SEQUENCE:3
DTSTAMP:20260423T063153Z
URL:http://knoxchamber.smartcms.site/events/details/mtvarts-bye-bye-birdie-1399
END:VEVENT

END:VCALENDAR
