BEGIN:VCALENDAR
VERSION:2.0
PRODID:-//ChamberMaster//Event Calendar 2.0//EN
METHOD:PUBLISH
X-PUBLISHED-TTL:P3D
REFRESH-INTERVAL:P3D
CALSCALE:GREGORIAN
BEGIN:VEVENT
DTSTART;VALUE=DATE:20181108
DTEND;VALUE=DATE:20181112
TRANSP:TRANSPARENT
X-MICROSOFT-CDO-ALLDAYEVENT:TRUE
SUMMARY:Mount Vernon Nazarene University Homecoming
DESCRIPTION:The Mount Vernon Nazarene University is celebrating their 50th anniversary this year.  With this being such a big milestone\, they want this year's homecoming to be one to remember.  Homecoming will run from November 8 through 11\, and will be packed with special events like the Presidents Prayer Breakfast\, the Alumni Leadership Summit\, Gold Rush 5.0 K and .5 K run/walk\, various sporting events\, and more.
X-ALT-DESC;FMTTYPE=text/html:<span style="color: rgb(178\, 34\, 34)\;"><strong>The Mount Vernon Nazarene University</strong></span>&nbsp\;is celebrating their 50th anniversary this year.&nbsp\; With this being such a big milestone\, they want this year&#39\;s homecoming to be one to remember.&nbsp\; Homecoming will run from November 8 through 11\, and will be packed with special events like the Presidents Prayer Breakfast\, the Alumni Leadership Summit\, Gold Rush 5.0&nbsp\;K and .5 K run/walk\, various sporting events\, and more.
LOCATION:Mount Vernon Nazarene University 800 Martinsburg Road\, Mount Vernon
UID:e.2893.3832
SEQUENCE:3
DTSTAMP:20260421T232220Z
URL:http://knoxchamber.smartcms.site/events/details/mount-vernon-nazarene-university-homecoming-3832
END:VEVENT

END:VCALENDAR
