BEGIN:VCALENDAR
VERSION:2.0
PRODID:-//ChamberMaster//Event Calendar 2.0//EN
METHOD:PUBLISH
X-PUBLISHED-TTL:P3D
REFRESH-INTERVAL:P3D
CALSCALE:GREGORIAN
BEGIN:VEVENT
DTSTART:20210812T213000Z
DTEND:20210813T023000Z
X-MICROSOFT-CDO-ALLDAYEVENT:FALSE
SUMMARY:Mount Vernon Music & Arts Festival: Cleveland Keys Dueling Pianos
DESCRIPTION:Mount Vernon Music & Arts Festival will partner with the Woodward Opera House to host a dinner concert with the Cleveland Keys Dueling Pianos on Thursday\, August 12. Doors open at 5:30. Ticket reservations for both the floor and balcony are now available at www.mvmaf.org/clevelandkeys.   Deadline August 8th\n\n\n\nMenu Includes: Caesar Salad\, Rosemary Seared 5oz Filet\, Scampi style shrimp\, Garlic Mashers\, Parmesan Green Beans\, Tiramisu. (Catered by Stein Brewing Company)\nVegetarian option available
X-ALT-DESC;FMTTYPE=text/html:Mount Vernon Music &amp\; Arts Festival will partner with the Woodward Opera House to host a dinner concert with the <span style="color:#000000\;"><strong>Cleveland Keys Dueling Pianos</strong></span> on Thursday\, August 12. Doors open at 5:30. Ticket reservations for both the floor and balcony are now available at <a href="https://www.mvmaf.org/clevelandkeys">www.mvmaf.org/clevelandkeys.</a>&nbsp\; &nbsp\;Deadline August 8th<br />\n<br />\n<span style="color: rgb(51\, 51\, 51)\; font-family: sans-serif\, Arial\, Verdana\, &quot\;Trebuchet MS&quot\;\; font-size: 12px\;"><span style="color: rgb(0\, 0\, 0)\;">Menu Includes:&nbsp\;</span></span><span style="font-size: 12px\; background-image: initial\; background-position: initial\; background-size: initial\; background-repeat: initial\; background-attachment: initial\; background-origin: initial\; background-clip: initial\; margin: 0px\; padding: 0px\; border: 0px\; outline: 0px\; vertical-align: baseline\; font-family: helvetica-w01-roman\, helvetica-w02-roman\, helvetica-lt-w10-roman\, sans-serif\;">Caesar Salad\, Rosemary Seared 5oz File</span><span style="font-size: 12px\; font-family: helvetica-w01-roman\, helvetica-w02-roman\, helvetica-lt-w10-roman\, sans-serif\;">t\, Scampi style shrimp\, Garlic Mashers\, Parmesan Green Beans\, Tiramisu.&nbsp\;</span><span style="font-family: helvetica-w01-roman\, helvetica-w02-roman\, helvetica-lt-w10-roman\, sans-serif\; font-style: italic\; font-size: 12px\;">(Catered by Stein Brewing Company)</span>\n<div><span style="font-size:14px\;"><span style="font-family: helvetica-w01-roman\, helvetica-w02-roman\, helvetica-lt-w10-roman\, sans-serif\; font-style: italic\;"><strong>Vegetarian option available</strong>&nbsp\;</span></span></div>\n
LOCATION:The Woodward Opera House 107 South Main Street\, Mount Vernon\, Ohio 43050
UID:e.2893.4989
SEQUENCE:3
DTSTAMP:20260419T162643Z
URL:http://knoxchamber.smartcms.site/events/details/mount-vernon-music-arts-festival-cleveland-keys-dueling-pianos-4989
END:VEVENT

END:VCALENDAR
