BEGIN:VCALENDAR
VERSION:2.0
PRODID:-//ChamberMaster//Event Calendar 2.0//EN
METHOD:PUBLISH
X-PUBLISHED-TTL:P3D
REFRESH-INTERVAL:P3D
CALSCALE:GREGORIAN
BEGIN:VEVENT
DTSTART:20190817T233000Z
DTEND:20190818T010000Z
X-MICROSOFT-CDO-ALLDAYEVENT:FALSE
SUMMARY:Motown Sounds of Touch
DESCRIPTION:Opening act TBD: 6 p.m.\n\nSounds of Touch: 7:30 p.m.\n\nThis is a FREE event\, thanks to our generous sponsors.\n\n\n\nTOUCH has been entertaining and delighting audiences all over the country for more than 15 years. Their energetic dance performances and engaging personalities have brought many an audience to their feet. Nearly 10 million viewers saw TOUCH perform and become a top-3 finalist on the NBC television show "The Winner Is\," hosted by Nick Lachey. TOUCH was recently the featured entertainment at the Cincinnati Reds Hall of Fame Induction Ceremony.\n\n\n\nFood vendors will be on hand an hour prior to the concert and include Big Pappy's BBQ\, Kent's Cones\, Squeals on Wheels\, Domino's and B.H. Coffee. Beer/wine will also be available. No outside food or beverages may be brought into the Event Center. Pets and smoking are prohibited in the event center and within the fence surrounding it.
X-ALT-DESC;FMTTYPE=text/html:<span style="display: inline !important\; float: none\; background-color: rgb(255\, 255\, 255)\; color: rgb(29\, 33\, 41)\; font-family: inherit\; font-size: 14px\; font-style: normal\; font-variant: normal\; font-weight: 400\; letter-spacing: normal\; orphans: 2\; text-align: left\; text-decoration: none\; text-indent: 0px\; text-transform: none\; -webkit-text-stroke-width: 0px\; white-space: pre-wrap\; word-spacing: 0px\;">Opening act TBD: 6 p.m.</span><br style="color: rgb(29\, 33\, 41)\; font-family: Helvetica\,Arial\,sans-serif\; font-size: 14px\; font-style: normal\; font-variant: normal\; font-weight: 400\; letter-spacing: normal\; orphans: 2\; text-align: left\; text-decoration: none\; text-indent: 0px\; text-transform: none\; -webkit-text-stroke-width: 0px\; white-space: pre-wrap\; word-spacing: 0px\;" />\n<span style="display: inline !important\; float: none\; background-color: rgb(255\, 255\, 255)\; color: rgb(29\, 33\, 41)\; font-family: inherit\; font-size: 14px\; font-style: normal\; font-variant: normal\; font-weight: 400\; letter-spacing: normal\; orphans: 2\; text-align: left\; text-decoration: none\; text-indent: 0px\; text-transform: none\; -webkit-text-stroke-width: 0px\; white-space: pre-wrap\; word-spacing: 0px\;">Sounds of Touch: 7:30 p.m.</span><br style="color: rgb(29\, 33\, 41)\; font-family: Helvetica\,Arial\,sans-serif\; font-size: 14px\; font-style: normal\; font-variant: normal\; font-weight: 400\; letter-spacing: normal\; orphans: 2\; text-align: left\; text-decoration: none\; text-indent: 0px\; text-transform: none\; -webkit-text-stroke-width: 0px\; white-space: pre-wrap\; word-spacing: 0px\;" />\n<span style="display: inline !important\; float: none\; background-color: rgb(255\, 255\, 255)\; color: rgb(29\, 33\, 41)\; font-family: inherit\; font-size: 14px\; font-style: normal\; font-variant: normal\; font-weight: 400\; letter-spacing: normal\; orphans: 2\; text-align: left\; text-decoration: none\; text-indent: 0px\; text-transform: none\; -webkit-text-stroke-width: 0px\; white-space: pre-wrap\; word-spacing: 0px\;">This is a FREE event\, thanks to our generous sponsors.</span><br style="color: rgb(29\, 33\, 41)\; font-family: Helvetica\,Arial\,sans-serif\; font-size: 14px\; font-style: normal\; font-variant: normal\; font-weight: 400\; letter-spacing: normal\; orphans: 2\; text-align: left\; text-decoration: none\; text-indent: 0px\; text-transform: none\; -webkit-text-stroke-width: 0px\; white-space: pre-wrap\; word-spacing: 0px\;" />\n<br style="color: rgb(29\, 33\, 41)\; font-family: Helvetica\,Arial\,sans-serif\; font-size: 14px\; font-style: normal\; font-variant: normal\; font-weight: 400\; letter-spacing: normal\; orphans: 2\; text-align: left\; text-decoration: none\; text-indent: 0px\; text-transform: none\; -webkit-text-stroke-width: 0px\; white-space: pre-wrap\; word-spacing: 0px\;" />\n<span style="display: inline !important\; float: none\; background-color: rgb(255\, 255\, 255)\; color: rgb(29\, 33\, 41)\; font-family: inherit\; font-size: 14px\; font-style: normal\; font-variant: normal\; font-weight: 400\; letter-spacing: normal\; orphans: 2\; text-align: left\; text-decoration: none\; text-indent: 0px\; text-transform: none\; -webkit-text-stroke-width: 0px\; white-space: pre-wrap\; word-spacing: 0px\;">TOUCH has been entertaining and delighting audiences all over the country for more than 15 years. Their energetic dance performances and engaging personalities have brought many an audience to their feet. Nearly 10 million viewers saw TOUCH perform and become a top-3 finalist on the NBC television show &ldquo\;The Winner Is\,&rdquo\; hosted by Nick Lachey. TOUCH was recently the featured entertainment at the Cincinnati Reds Hall of Fame Induction Ceremony.</span><br />\n<br />\n<span style="display: inline !important\; float: none\; background-color: rgb(246\, 246\, 246)\; color: rgb(91\, 115\, 30)\; font-family: sans-serif\; font-size: 13px\; font-style: normal\; font-variant: normal\; font-weight: 300\; letter-spacing: normal\; line-height: 1.7142\; orphans: 2\; text-align: left\; text-decoration: none\; text-indent: 0px\; text-transform: none\; -webkit-text-stroke-width: 0px\; white-space: normal\; word-spacing: 0px\;">Food vendors will be on hand an hour prior to the concert and include Big Pappy&rsquo\;s BBQ\, Kent&rsquo\;s Cones\, Squeals on Wheels\, Domino&rsquo\;s and B.H. Coffee. Beer/wine will also be available. No outside food or beverages may be brought into the Event Center. Pets and smoking are prohibited in the event center and within the fence surrounding it.</span><br />\n&nbsp\;
LOCATION:Ariel-Foundation Park
UID:e.2893.4434
SEQUENCE:3
DTSTAMP:20260421T071119Z
URL:http://knoxchamber.smartcms.site/events/details/motown-sounds-of-touch-4434
END:VEVENT

END:VCALENDAR
