BEGIN:VCALENDAR
VERSION:2.0
PRODID:-//ChamberMaster//Event Calendar 2.0//EN
METHOD:PUBLISH
X-PUBLISHED-TTL:P3D
REFRESH-INTERVAL:P3D
CALSCALE:GREGORIAN
BEGIN:VEVENT
DTSTART:20170826T233000Z
DTEND:20170827T030000Z
X-MICROSOFT-CDO-ALLDAYEVENT:FALSE
SUMMARY:Motown Sounds of Touch
DESCRIPTION:
X-ALT-DESC;FMTTYPE=text/html:
LOCATION:Ariel-Foundation Park
UID:e.2893.1440
SEQUENCE:3
DTSTAMP:20260423T023907Z
URL:http://knoxchamber.smartcms.site/events/details/motown-sounds-of-touch-1440
END:VEVENT

END:VCALENDAR
