BEGIN:VCALENDAR
VERSION:2.0
PRODID:-//ChamberMaster//Event Calendar 2.0//EN
METHOD:PUBLISH
X-PUBLISHED-TTL:P3D
REFRESH-INTERVAL:P3D
CALSCALE:GREGORIAN
BEGIN:VEVENT
DTSTART:20190512T150000Z
DTEND:20190512T190000Z
X-MICROSOFT-CDO-ALLDAYEVENT:FALSE
SUMMARY:Mother's Day Lunch Buffet
DESCRIPTION:Ohio Eastern Star Home invites you to the Glenn A. Gallagher Center for their Mother's Day Lunch Buffet. Enjoy a wide variety of tasty foods and treat your mother to one of their decadent desserts! A cash bar will also be available for the lunch. This buffet is reservation only so claim your spot as soon as possible! Click here to view the flyer.
X-ALT-DESC;FMTTYPE=text/html:Ohio Eastern Star Home invites you to the Glenn A. Gallagher Center for their Mother&#39\;s Day Lunch Buffet. Enjoy a wide variety of tasty foods and treat your mother to one of their decadent desserts! A cash bar will also be available for the lunch. This buffet is reservation only so claim your spot as soon as possible!<a href="https://chambermaster.blob.core.windows.net/userfiles/UserFiles/chambers/2893/File/68024MothersDayflyer-proof2.pdf"> <span style="color:#B22222\;">Click here to view the flyer.</span></a>
LOCATION:1451 Gambier Road\, Mount Vernon\, Ohio
UID:e.2893.4299
SEQUENCE:3
DTSTAMP:20260421T132636Z
URL:http://knoxchamber.smartcms.site/events/details/mother-s-day-lunch-buffet-4299
END:VEVENT

END:VCALENDAR
