BEGIN:VCALENDAR
VERSION:2.0
PRODID:-//ChamberMaster//Event Calendar 2.0//EN
METHOD:PUBLISH
X-PUBLISHED-TTL:P3D
REFRESH-INTERVAL:P3D
CALSCALE:GREGORIAN
BEGIN:VEVENT
DTSTART:20181028T000000Z
DTEND:20181028T060000Z
X-MICROSOFT-CDO-ALLDAYEVENT:FALSE
SUMMARY:Moss Rose Halloween Party & Costume Contest
DESCRIPTION:Moss Rose Halloween Party\nSaturday\, October 27\n\n8PM-Close\n\nCostume Contest\, Games\, Music\, Drink Specials & More!
X-ALT-DESC;FMTTYPE=text/html:<h3>Moss Rose Halloween Party</h3>\nSaturday\, October 27<br />\n8PM-Close<br />\nCostume Contest\, Games\, Music\, Drink Specials &amp\; More!
LOCATION:109 West Ohio Ave Mount Vernon\, Ohio
UID:e.2893.3835
SEQUENCE:3
DTSTAMP:20260422T011201Z
URL:http://knoxchamber.smartcms.site/events/details/moss-rose-halloween-party-costume-contest-3835
END:VEVENT

END:VCALENDAR
