BEGIN:VCALENDAR
VERSION:2.0
PRODID:-//ChamberMaster//Event Calendar 2.0//EN
METHOD:PUBLISH
X-PUBLISHED-TTL:P3D
REFRESH-INTERVAL:P3D
CALSCALE:GREGORIAN
BEGIN:VEVENT
DTSTART:20170112T140000Z
DTEND:20170112T150000Z
X-MICROSOFT-CDO-ALLDAYEVENT:FALSE
SUMMARY:MoneySmart Series - Credit Reporting
DESCRIPTION:Credit Reporting - demystified\n\nAfter completing this module\, the participants will be able to:\n\n\n	Understand how credit reports are used in the underwriting of business loans.\n	Apply common business practices and tools to help in proper credit reporting.\n	Develop strategies to build or improve their business' credit.\n	Protect themselves from credit-related scams and know what to do if their business becomes a victim.
X-ALT-DESC;FMTTYPE=text/html:<p style="margin: 0px\; padding: 0px 0px 10px\; font-family: &quot\;Helvetica Neue&quot\;\, Helvetica\, Arial\, sans-serif\;"><strong>Credit Reporting</strong>&nbsp\;- demystified</p>\n\n<p style="margin: 0px\; padding: 0px 0px 10px\; font-family: &quot\;Helvetica Neue&quot\;\, Helvetica\, Arial\, sans-serif\;">After completing this module\, the participants will be able to:</p>\n\n<ul style="margin: 0px 0px 0px 15px\; padding-right: 0px\; padding-left: 10px\; list-style-image: url(&quot\;/responsive/graphics/ul-symbol.png&quot\;)\; font-family: &quot\;Helvetica Neue&quot\;\, Helvetica\, Arial\, sans-serif\;">\n	<li style="margin: 0px\; padding: 0px 0px 10px\;">Understand how credit reports are used in the underwriting of business loans.</li>\n	<li style="margin: 0px\; padding: 0px 0px 10px\;">Apply common business practices and tools to help in proper credit reporting.</li>\n	<li style="margin: 0px\; padding: 0px 0px 10px\;">Develop strategies to build or improve their business&rsquo\; credit.</li>\n	<li style="margin: 0px\; padding: 0px 0px 10px\;">Protect themselves from credit-related scams and know what to do if their business becomes a victim.</li>\n</ul>\n
LOCATION:This event will be taking place at the Knox County Chamber of Commerce in the conference room.
UID:e.2893.1107
SEQUENCE:3
DTSTAMP:20260423T143008Z
URL:http://knoxchamber.smartcms.site/events/details/moneysmart-series-credit-reporting-1107
END:VEVENT

END:VCALENDAR
