BEGIN:VCALENDAR
VERSION:2.0
PRODID:-//ChamberMaster//Event Calendar 2.0//EN
METHOD:PUBLISH
X-PUBLISHED-TTL:P3D
REFRESH-INTERVAL:P3D
CALSCALE:GREGORIAN
BEGIN:VEVENT
DTSTART;VALUE=DATE:20170512
DTEND;VALUE=DATE:20170513
TRANSP:TRANSPARENT
X-MICROSOFT-CDO-ALLDAYEVENT:TRUE
SUMMARY:Mom's Night Out
DESCRIPTION:Stay tuned for more details
X-ALT-DESC;FMTTYPE=text/html:Stay tuned for more details
LOCATION:
UID:e.2893.971
SEQUENCE:3
DTSTAMP:20260423T075406Z
URL:http://knoxchamber.smartcms.site/events/details/mom-s-night-out-971
END:VEVENT

END:VCALENDAR
