BEGIN:VCALENDAR
VERSION:2.0
PRODID:-//ChamberMaster//Event Calendar 2.0//EN
METHOD:PUBLISH
X-PUBLISHED-TTL:P3D
REFRESH-INTERVAL:P3D
CALSCALE:GREGORIAN
BEGIN:VEVENT
DTSTART;VALUE=DATE:20170427
DTEND;VALUE=DATE:20170428
TRANSP:TRANSPARENT
X-MICROSOFT-CDO-ALLDAYEVENT:TRUE
SUMMARY:Mold Recognition and Hazard Awareness
DESCRIPTION:BWC Class Offerings in Columbus
X-ALT-DESC;FMTTYPE=text/html:BWC Class Offerings in Columbus
LOCATION:
UID:e.2893.1321
SEQUENCE:3
DTSTAMP:20260423T093503Z
URL:http://knoxchamber.smartcms.site/events/details/mold-recognition-and-hazard-awareness-1321
END:VEVENT

END:VCALENDAR
