BEGIN:VCALENDAR
VERSION:2.0
PRODID:-//ChamberMaster//Event Calendar 2.0//EN
METHOD:PUBLISH
X-PUBLISHED-TTL:P3D
REFRESH-INTERVAL:P3D
CALSCALE:GREGORIAN
BEGIN:VEVENT
DTSTART:20180929T010000Z
DTEND:20180929T030000Z
X-MICROSOFT-CDO-ALLDAYEVENT:FALSE
SUMMARY:Miller Observatory Open House
DESCRIPTION:Meet at Miller Observatory. Enjoy telescope views of celestial sites including the moon\, planets like Venus\, Jupiter\, and Saturn\, as well as star clusters and nebulae. Weather permitting (if it's cloudy\, the program will be cancelled). FREE.
X-ALT-DESC;FMTTYPE=text/html:Meet at Miller Observatory. Enjoy telescope views of celestial sites including the moon\, planets like Venus\, Jupiter\, and Saturn\, as well as star clusters and nebulae. Weather permitting (if it&rsquo\;s cloudy\, the program will be cancelled). FREE.
LOCATION:Miller Observatory
UID:e.2893.3744
SEQUENCE:3
DTSTAMP:20260422T042851Z
URL:http://knoxchamber.smartcms.site/events/details/miller-observatory-open-house-09-28-2018-3744
END:VEVENT

END:VCALENDAR
