BEGIN:VCALENDAR
VERSION:2.0
PRODID:-//ChamberMaster//Event Calendar 2.0//EN
METHOD:PUBLISH
X-PUBLISHED-TTL:P3D
REFRESH-INTERVAL:P3D
CALSCALE:GREGORIAN
BEGIN:VEVENT
DTSTART:20200229T010000Z
DTEND:20200229T030000Z
X-MICROSOFT-CDO-ALLDAYEVENT:FALSE
SUMMARY:Miller Observatory Open House
DESCRIPTION:Meet at Franklin Miller Observatory. Dr. Paula Turner of Kenyon's Physics Department will share telescope views of celestial sites including the moon\, planets like Venus\, Jupiter\, and Saturn\, as well as star clusters and nebulae. Weather permitting (if it's cloudy\, the program will be cancelled). Free.
X-ALT-DESC;FMTTYPE=text/html:Meet at Franklin Miller Observatory. Dr. Paula Turner of Kenyon&rsquo\;s Physics Department will share telescope views of celestial sites including the moon\, planets like Venus\, Jupiter\, and Saturn\, as well as star clusters and nebulae. Weather permitting (if it&rsquo\;s cloudy\, the program will be cancelled). Free.
LOCATION:Franklin Miller Observatory
UID:e.2893.4696
SEQUENCE:3
DTSTAMP:20260420T231233Z
URL:http://knoxchamber.smartcms.site/events/details/miller-observatory-open-house-02-28-2020-4696
END:VEVENT

END:VCALENDAR
