BEGIN:VCALENDAR
VERSION:2.0
PRODID:-//ChamberMaster//Event Calendar 2.0//EN
METHOD:PUBLISH
X-PUBLISHED-TTL:P3D
REFRESH-INTERVAL:P3D
CALSCALE:GREGORIAN
BEGIN:VEVENT
DTSTART;VALUE=DATE:20201130
DTEND;VALUE=DATE:20201201
TRANSP:TRANSPARENT
X-MICROSOFT-CDO-ALLDAYEVENT:TRUE
SUMMARY:Mental Health Survey
DESCRIPTION:CLICK HERE TO TAKE SURVEY\n\n\n\nOn behalf of Kay Spergel\, Executive Director of the Mental Health and Recovery for Licking and Knox Counties\, we would like to invite you to participate in the MHR Board's Strategic Planning process by completing a brief internet-based survey. Your input / feedback is very important to the MHR Board's Strategic Planning process.  Your input will be utilized by Mental Health and Recovery for Licking and Knox Counties during the organization's Strategic Planning process.\n\n \n\nMental Health and Recovery for Licking and Knox Counties has engaged Brown Consulting\, Ltd.\, a behavioral health consulting firm based in Toledo\, Ohio\, to assist in the facilitation of its Strategic Planning process. The e-mail survey is being conducted by Brown Consulting\, Ltd.  \n\n \n\nhttps://www.eSurveysPro.com/Survey.aspx?id=d0730e9e-bd54-450e-8c13-d479111d9197\n\n \n\nPlease take a few minutes to complete the survey via the link above and thank you very much for your time and input.
X-ALT-DESC;FMTTYPE=text/html:<p style="margin:0in\;margin-bottom:.0001pt\;text-align:justify"><span style="font-family: Arial\, sans-serif\; background: white\;"><u><strong><a href="https://www.eSurveysPro.com/Survey.aspx?id=d0730e9e-bd54-450e-8c13-d479111d9197"><span style="color:#FF0000\;">CLICK HERE TO TAKE SURVEY</span></a></strong></u></span><br />\n<br />\n<span style="font-family:&quot\;Arial&quot\;\,sans-serif\;color:#222222\;background:white">On behalf of Kay Spergel\, Executive Director of the Mental Health and Recovery for Licking and Knox Counties\, we would like to invite you to participate in the MHR Board&rsquo\;s Strategic Planning process by completing a brief internet-based survey. Your input / feedback is very important to the MHR Board&rsquo\;s Strategic Planning process.&nbsp\; Your input will be utilized by Mental Health and Recovery for Licking and Knox Counties during the organization&rsquo\;s Strategic Planning process.</span><o:p></o:p></p>\n\n<p style="margin:0in\;margin-bottom:.0001pt\;text-align:justify\;background:white">&nbsp\;<o:p></o:p></p>\n\n<p style="margin:0in\;margin-bottom:.0001pt\;text-align:justify\;background:white"><span style="font-family:&quot\;Arial&quot\;\,sans-serif\;color:#222222\;background:white">Mental Health and Recovery for Licking and Knox Counties</span><span style="font-family:\n&quot\;Arial&quot\;\,sans-serif\;color:#222222"> has engaged Brown Consulting\, Ltd.\, a behavioral health consulting firm based in Toledo\, Ohio\, to assist in the facilitation of its Strategic Planning process. The e-mail survey is being conducted by Brown Consulting\, Ltd.&nbsp\;&nbsp\;</span><o:p></o:p></p>\n\n<p style="margin:0in\;margin-bottom:.0001pt\;background:white">&nbsp\;<o:p></o:p></p>\n\n<p style="margin:0in\;margin-bottom:.0001pt\;background:white"><a href="https://www.eSurveysPro.com/Survey.aspx?id=d0730e9e-bd54-450e-8c13-d479111d9197" target="_blank">https://www.eSurveysPro.com/Survey.aspx?id=d0730e9e-bd54-450e-8c13-d479111d9197</a><o:p></o:p></p>\n\n<p style="margin:0in\;margin-bottom:.0001pt\;background:white"><o:p>&nbsp\;</o:p></p>\n\n<p style="margin:0in\;margin-bottom:.0001pt\;background:white"><span style="font-family:&quot\;Arial&quot\;\,sans-serif\;color:#222222">Please take a few minutes to complete the survey via the link above and thank you very much for your time and input.&nbsp\;&nbsp\;</span><o:p></o:p></p>\n
LOCATION:
UID:e.2893.4820
SEQUENCE:3
DTSTAMP:20260420T092653Z
URL:http://knoxchamber.smartcms.site/events/details/mental-health-survey-4820
END:VEVENT

END:VCALENDAR
