BEGIN:VCALENDAR
VERSION:2.0
PRODID:-//ChamberMaster//Event Calendar 2.0//EN
METHOD:PUBLISH
X-PUBLISHED-TTL:P3D
REFRESH-INTERVAL:P3D
CALSCALE:GREGORIAN
BEGIN:VEVENT
DTSTART;VALUE=DATE:20190316
DTEND;VALUE=DATE:20190318
TRANSP:TRANSPARENT
X-MICROSOFT-CDO-ALLDAYEVENT:TRUE
SUMMARY:Mazza's Saint Patricks Celebration
DESCRIPTION:Mazza's Restaurant invites you to wear something green and join them for their Saint Patrick's Day Celebration! Seving a special menu of veal pastrami rueben\, green beer\, and "The Gent" specialty cocktail\, they are looking forward to a fun and safe weekend!
X-ALT-DESC;FMTTYPE=text/html:Mazza&#39\;s Restaurant invites you to wear something green and join them for their Saint Patrick&#39\;s Day Celebration! Seving a special menu of veal pastrami rueben\, green beer\, and &quot\;The Gent&quot\; specialty cocktail\, they are looking forward to a fun and safe weekend!
LOCATION:11587 Upper Gilchrist Road\, Mounr Vernon
UID:e.2893.4259
SEQUENCE:3
DTSTAMP:20260421T182338Z
URL:http://knoxchamber.smartcms.site/events/details/mazza-s-saint-patricks-celebration-4259
END:VEVENT

END:VCALENDAR
