BEGIN:VCALENDAR
VERSION:2.0
PRODID:-//ChamberMaster//Event Calendar 2.0//EN
METHOD:PUBLISH
X-PUBLISHED-TTL:P3D
REFRESH-INTERVAL:P3D
CALSCALE:GREGORIAN
BEGIN:VEVENT
DTSTART:20181231T230000Z
DTEND:20190101T050000Z
X-MICROSOFT-CDO-ALLDAYEVENT:FALSE
SUMMARY:Mazza's Presents Rat Pack New Year's Eve
DESCRIPTION:Mazza's invites you to be a part of the best party of the year! Ring in 2019 at their Rat Pack New Years Eve Party!  Dine in style and enjoy live music in the room from Just Jazz Live all night leading up to a Midnight Champagne Toast!  Doors open at 6pm! Reservations are recommended!\n\nClick Here for More Information
X-ALT-DESC;FMTTYPE=text/html:<span style="color: rgb(128\, 0\, 0)\;">Mazza&#39\;s</span> invites you to be a part of the best party of the year! Ring in 2019 at their Rat Pack New Years Eve Party!&nbsp\; Dine in style and enjoy live music in the room from Just Jazz Live all night leading up to a Midnight Champagne Toast!&nbsp\; Doors open at 6pm! <a href="http://www.mazzas.com/">Reservations</a> are recommended!<br />\n<a href="https://chambermaster.blob.core.windows.net/userfiles/UserFiles/chambers/2893/File/RATPACKK.jpg">Click Here for More Information</a>
LOCATION:Mazza's 11587 Upper Gilchrist Road\, Mount Vernon
UID:e.2893.3868
SEQUENCE:3
DTSTAMP:20260421T195708Z
URL:http://knoxchamber.smartcms.site/events/details/mazza-s-presents-rat-pack-new-year-s-eve-3868
END:VEVENT

END:VCALENDAR
