BEGIN:VCALENDAR
VERSION:2.0
PRODID:-//ChamberMaster//Event Calendar 2.0//EN
METHOD:PUBLISH
X-PUBLISHED-TTL:P3D
REFRESH-INTERVAL:P3D
CALSCALE:GREGORIAN
BEGIN:VEVENT
DTSTART:20170507T160000Z
DTEND:20170507T200000Z
X-MICROSOFT-CDO-ALLDAYEVENT:FALSE
SUMMARY:Martinsburg 7th Annual Car and Bike Show
DESCRIPTION:Classic cars and trucks on display\, food \,music and  a 50/50 drawing.\n\nFun for the whole family!
X-ALT-DESC;FMTTYPE=text/html:Classic cars and trucks on display\, food \,music and &nbsp\;a 50/50 drawing.<br />\nFun for the whole family!
LOCATION:Martinsburg Activity Center 122 West Liberty St. Route 62 Martinsburg Ohio
UID:e.2893.1343
SEQUENCE:3
DTSTAMP:20260423T075751Z
URL:http://knoxchamber.smartcms.site/events/details/martinsburg-7th-annual-car-and-bike-show-1343
END:VEVENT

END:VCALENDAR
