BEGIN:VCALENDAR
VERSION:2.0
PRODID:-//ChamberMaster//Event Calendar 2.0//EN
METHOD:PUBLISH
X-PUBLISHED-TTL:P3D
REFRESH-INTERVAL:P3D
CALSCALE:GREGORIAN
BEGIN:VEVENT
DTSTART:20190126T190000Z
DTEND:20190126T210000Z
X-MICROSOFT-CDO-ALLDAYEVENT:FALSE
SUMMARY:Map Your Backyard with Habitat Network
DESCRIPTION:Meet at the BFEC Resource Center. Want to transform your backyard into a lush wildlife habitat? The Habitat Network is an online citizen science tool from the Cornell Lab of Ornithology that allows anyone to map their backyard\, farm\, park\, or school in order to collect data about local environments. The website also provides easy strategies to sustainably design and manage your new backyard. Free for everyone - we'll show you how!
X-ALT-DESC;FMTTYPE=text/html:Meet at the BFEC Resource Center. Want to transform your backyard into a lush wildlife habitat? The Habitat Network is an online citizen science tool from the Cornell Lab of Ornithology that allows anyone to map their backyard\, farm\, park\, or school in order to collect data about local environments. The website also provides easy strategies to sustainably design and manage your new backyard. Free for everyone - we&#39\;ll show you how!
LOCATION:Brown Family Environmental Center 9871 Laymon Road. Gambier\, Ohio 43022
UID:e.2893.3861
SEQUENCE:3
DTSTAMP:20260421T213329Z
URL:http://knoxchamber.smartcms.site/events/details/map-your-backyard-with-habitat-network-3861
END:VEVENT

END:VCALENDAR
