BEGIN:VCALENDAR
VERSION:2.0
PRODID:-//ChamberMaster//Event Calendar 2.0//EN
METHOD:PUBLISH
X-PUBLISHED-TTL:P3D
REFRESH-INTERVAL:P3D
CALSCALE:GREGORIAN
BEGIN:VEVENT
DTSTART:20190622T180000Z
DTEND:20190622T200000Z
X-MICROSOFT-CDO-ALLDAYEVENT:FALSE
SUMMARY:Make Your Own Native Bee Hotel
DESCRIPTION:It's National Pollinator Week! After Andrew Lybbert's talk on native Ohio pollinators\, we now know how important native bees are. Join us for this hands-on adventure to create a lovely addition to your garden - a native bee hotel. Jason Bennett\, a beekeeper of 20 years\, will lead us through this activity. Space is limited - call now to reserve your seat! 740-427-5052. Materials fee: $10
X-ALT-DESC;FMTTYPE=text/html:It&rsquo\;s National Pollinator Week! After Andrew Lybbert&#39\;s talk on native Ohio pollinators\, we now know how important native bees are. Join us for this hands-on adventure to create a lovely addition to your garden - a native bee hotel. Jason Bennett\, a beekeeper of 20 years\, will lead us through this activity. Space is limited - call now to reserve your seat! 740-427-5052. Materials fee: $10
LOCATION:Brown Family Environmental Cente
UID:e.2893.4281
SEQUENCE:3
DTSTAMP:20260421T102117Z
URL:http://knoxchamber.smartcms.site/events/details/make-your-own-native-bee-hotel-4281
END:VEVENT

END:VCALENDAR
