BEGIN:VCALENDAR
VERSION:2.0
PRODID:-//ChamberMaster//Event Calendar 2.0//EN
METHOD:PUBLISH
X-PUBLISHED-TTL:P3D
REFRESH-INTERVAL:P3D
CALSCALE:GREGORIAN
BEGIN:VEVENT
DTSTART;VALUE=DATE:20210329
DTEND;VALUE=DATE:20210405
TRANSP:TRANSPARENT
X-MICROSOFT-CDO-ALLDAYEVENT:TRUE
SUMMARY:Love Local Week
DESCRIPTION:Beginning on Monday March 29th and continuing through the closing of business on Sunday April 4th\, Stein Brewing Company will be hosting "Love Local Week-Giving Back the SBC Way"\n\n For qualifying purchases you will receive a gift card to spend at one of 6 other Main Street Mount Vernon business establishments. The more you spend at SBC\, the more you receive on your bonus gift card!! \n\nSpend $50 receive $5\n\nSpend $100 receive $10\n\nSpend $150 receive $15\n\nSpend $200 receive $25\n\nSpend $500 receive $75\n\nBonus gift cards will be mailed to you once the promo has ended. There will be an information card at Stein Brewing Company for you to fill out which will allow you to choose from Half Baked Cafe\, The Makery\, Paragraphs\, Wagoners Down Home Leather\, Almost Famous Sweets and Sodas\, or The Scent Life. \n\nThis is Stein Brewing Company's way to share the love and support we have been getting with our neighbors! We are grateful for our community and encourage you to come out and support local!
X-ALT-DESC;FMTTYPE=text/html:Beginning on Monday March 29th and continuing through the closing of business on Sunday April 4th\, Stein Brewing Company will be hosting &quot\;Love Local Week-Giving Back the SBC Way&quot\;<br />\n&nbsp\;For qualifying purchases you will receive a gift card to spend at one of 6 other Main Street Mount Vernon business establishments. The more you spend at SBC\, the more you receive&nbsp\;on your bonus gift card!!&nbsp\;<br />\nSpend $50 receive $5<br />\nSpend $100 receive $10<br />\nSpend $150 receive $15<br />\nSpend $200 receive $25<br />\nSpend $500 receive $75<br />\nBonus gift cards will be mailed to you once the promo has ended. There will be an information&nbsp\;card at Stein Brewing Company for you to fill out which will allow you to choose from Half Baked Cafe\, The Makery\, Paragraphs\, Wagoners Down Home Leather\, Almost Famous Sweets and Sodas\, or The Scent Life.&nbsp\;<br />\n<span style="font-family:calibri\,sans-serif\;"><span style="font-size:11.0pt\;">This is Stein Brewing Company&#39\;s way to share the love and support we have been getting with our neighbors! We are grateful for our community and encourage&nbsp\;you to come out and support local!</span></span>
LOCATION:Stein Brewing Company 109 South Main Street
UID:e.2893.4855
SEQUENCE:3
DTSTAMP:20260419T225800Z
URL:http://knoxchamber.smartcms.site/events/details/love-local-week-4855
END:VEVENT

END:VCALENDAR
