BEGIN:VCALENDAR
VERSION:2.0
PRODID:-//ChamberMaster//Event Calendar 2.0//EN
METHOD:PUBLISH
X-PUBLISHED-TTL:P3D
REFRESH-INTERVAL:P3D
CALSCALE:GREGORIAN
BEGIN:VEVENT
DTSTART:20170425T170000Z
DTEND:20170425T180000Z
X-MICROSOFT-CDO-ALLDAYEVENT:FALSE
SUMMARY:LIVE Webinar | Don't Let Marketing Bite You: 4 Ways to Reach More Customers
DESCRIPTION:LIVE Webinar | Don't Let Marketing Bite You: 4 Ways to Reach More Customers\n\n \n\nFinding new customers is a top priority for small business owners\, but is often costly and time consuming. Get some tips on finding new customers during this webinar produced by SCORE\, a resource partner of the U.S. Small Business Administration. We'll cover how to attract more web traffic and increase online sales\, cost-effectively reach existing customers and use free online listings to get found locally.\n\n \n\nTuesday\, April 25\, 2017\n\n1:00pm ET / 10:00am PT\n\n \n\n Register Here
X-ALT-DESC;FMTTYPE=text/html:<p class="gdp" style="line-height:12.75pt"><b><span style="font-size:10.5pt\;\nfont-family:&quot\;Helvetica&quot\;\,sans-serif\;color:#4E4D4E"><a href="http://links.govdelivery.com:80/track?type=click&amp\;enid=ZWFzPTEmbWFpbGluZ2lkPTIwMTcwNDAyLjcxODMwNzUxJm1lc3NhZ2VpZD1NREItUFJELUJVTC0yMDE3MDQwMi43MTgzMDc1MSZkYXRhYmFzZWlkPTEwMDEmc2VyaWFsPTE3MTMxMTMyJmVtYWlsaWQ9cHJvZ3JhbXNAa25veGNoYW1iZXIuY29tJnVzZXJpZD1wcm9ncmFtc0Brbm94Y2hhbWJlci5jb20mZmw9JmV4dHJhPU11bHRpdmFyaWF0ZUlkPSYmJg==&amp\;&amp\;&amp\;110&amp\;&amp\;&amp\;https://cc.readytalk.com/r/4ikraxvnbxz3&amp\;eom?utm_medium=email&amp\;utm_source=govdelivery"><span style="color:#1D5782">LIVE Webinar | Don&#39\;t Let Marketing Bite You: 4 Ways to Reach More Customers</span></a></span></b><span style="font-size:10.5pt\;\nfont-family:&quot\;Helvetica&quot\;\,sans-serif\;color:#4E4D4E"><o:p></o:p></span></p>\n\n<p class="gdp" style="line-height:12.75pt"><span style="font-size:10.5pt\;\nfont-family:&quot\;Helvetica&quot\;\,sans-serif\;color:#4E4D4E">&nbsp\;<o:p></o:p></span></p>\n\n<p class="gdp" style="line-height:12.75pt"><span style="font-size:10.5pt\;\nfont-family:&quot\;Helvetica&quot\;\,sans-serif\;color:#4E4D4E">Finding new customers is a top priority for small business owners\, but is often costly and time consuming. Get some tips on finding new customers&nbsp\;during this webinar produced by SCORE\, a resource partner of the U.S. Small Business Administration. We&rsquo\;ll cover how to attract more web traffic and increase online sales\, cost-effectively reach existing customers and use free online listings to get found locally.<o:p></o:p></span></p>\n\n<p class="gdp" style="line-height:12.75pt"><span style="font-size:10.5pt\;\nfont-family:&quot\;Helvetica&quot\;\,sans-serif\;color:#4E4D4E">&nbsp\;<o:p></o:p></span></p>\n\n<p class="gdp" style="line-height:12.75pt"><b><span style="font-size:10.5pt\;\nfont-family:&quot\;Helvetica&quot\;\,sans-serif\;color:#4E4D4E">Tuesday\, April 25\, 2017</span></b><span style="font-size:10.5pt\;font-family:&quot\;Helvetica&quot\;\,sans-serif\;color:#4E4D4E"><o:p></o:p></span></p>\n\n<p class="gdp" style="line-height:12.75pt"><b><span style="font-size:10.5pt\;\nfont-family:&quot\;Helvetica&quot\;\,sans-serif\;color:#4E4D4E">1:00pm ET / 10:00am PT</span></b><span style="font-size:10.5pt\;font-family:&quot\;Helvetica&quot\;\,sans-serif\;color:#4E4D4E"><o:p></o:p></span></p>\n\n<p class="gdp" style="line-height:12.75pt"><span style="font-size:10.5pt\;\nfont-family:&quot\;Helvetica&quot\;\,sans-serif\;color:#4E4D4E">&nbsp\;<o:p></o:p></span></p>\n\n<p class="gdp" style="line-height:12.75pt"><span style="font-size:10.5pt\;\nfont-family:&quot\;Helvetica&quot\;\,sans-serif\;color:#4E4D4E"><a href="http://links.govdelivery.com:80/track?type=click&amp\;enid=ZWFzPTEmbWFpbGluZ2lkPTIwMTcwNDAyLjcxODMwNzUxJm1lc3NhZ2VpZD1NREItUFJELUJVTC0yMDE3MDQwMi43MTgzMDc1MSZkYXRhYmFzZWlkPTEwMDEmc2VyaWFsPTE3MTMxMTMyJmVtYWlsaWQ9cHJvZ3JhbXNAa25veGNoYW1iZXIuY29tJnVzZXJpZD1wcm9ncmFtc0Brbm94Y2hhbWJlci5jb20mZmw9JmV4dHJhPU11bHRpdmFyaWF0ZUlkPSYmJg==&amp\;&amp\;&amp\;111&amp\;&amp\;&amp\;https://cc.readytalk.com/r/4ikraxvnbxz3&amp\;eom?utm_medium=email&amp\;utm_source=govdelivery"><span style="color:#1D5782">&gt\;Register Here</span></a><o:p></o:p></span></p>\n
LOCATION:
UID:e.2893.1344
SEQUENCE:3
DTSTAMP:20260423T094009Z
URL:http://knoxchamber.smartcms.site/events/details/live-webinar-don-t-let-marketing-bite-you-4-ways-to-reach-more-customers-1344
END:VEVENT

END:VCALENDAR
