BEGIN:VCALENDAR
VERSION:2.0
PRODID:-//ChamberMaster//Event Calendar 2.0//EN
METHOD:PUBLISH
X-PUBLISHED-TTL:P3D
REFRESH-INTERVAL:P3D
CALSCALE:GREGORIAN
BEGIN:VEVENT
DTSTART:20190829T230000Z
DTEND:20190830T020000Z
X-MICROSOFT-CDO-ALLDAYEVENT:FALSE
SUMMARY:Live Music on the Patio
DESCRIPTION:Enjoy live music\, greet food\, and a few drinks at this event hosted by Buffalo Wild Wings of Mount Vernon!  This week's act is Chaz and Nicki!
X-ALT-DESC;FMTTYPE=text/html:Enjoy live music\, greet food\, and a few drinks at this event hosted by Buffalo Wild Wings of Mount Vernon!&nbsp\; This week&#39\;s act is Chaz and Nicki!
LOCATION:Buffalo Wild Wings\, 907 Coshocton Avenue\, Mount Vernon
UID:e.2893.4373
SEQUENCE:3
DTSTAMP:20260421T071042Z
URL:http://knoxchamber.smartcms.site/events/details/live-music-on-the-patio-4373
END:VEVENT

END:VCALENDAR
