BEGIN:VCALENDAR
VERSION:2.0
PRODID:-//ChamberMaster//Event Calendar 2.0//EN
METHOD:PUBLISH
X-PUBLISHED-TTL:P3D
REFRESH-INTERVAL:P3D
CALSCALE:GREGORIAN
BEGIN:VEVENT
DTSTART:20210324T100000Z
DTEND:20210329T220000Z
X-MICROSOFT-CDO-ALLDAYEVENT:FALSE
SUMMARY:Lifeline 2021- WNZR's Annual Fundraiser
DESCRIPTION:Join the WNZR Staff for WNZR's annual fundraiser\, Lifeline 2021\, Wednesday\, March 24th through Monday\, March 29th. Please join us in praying for this important time in the life of our radio ministry. Lifeline 2021 starts Wednesday\, March 24th. This year's them is "Keep Me in the Moment" (based on the song from Jeremy Camp). This year's theme Verses   Ephesians 5:15   16- "Be very careful\, then\, how you live not as unwise but as wise\, making the most of every opportunity." For more information\, visit wnzr.fm.
X-ALT-DESC;FMTTYPE=text/html:Join the WNZR Staff for WNZR&#39\;s annual fundraiser\, Lifeline 2021\, Wednesday\, March 24th through Monday\, March 29th. Please join us in praying for this important time in the life of our radio ministry. Lifeline 2021 starts Wednesday\, March 24th. This year&rsquo\;s them is &ldquo\;Keep Me in the Moment&rdquo\; (based on the song from Jeremy Camp). This year&rsquo\;s theme Verses &ndash\; Ephesians 5:15 &ndash\; 16- &quot\;Be very careful\, then\, how you live&mdash\;not as unwise but as wise\, making the most of every opportunity.&quot\; For more information\, visit wnzr.fm.
LOCATION:
UID:e.2893.4838
SEQUENCE:3
DTSTAMP:20260420T005403Z
URL:http://knoxchamber.smartcms.site/events/details/lifeline-2021-wnzr-s-annual-fundraiser-4838
END:VEVENT

END:VCALENDAR
