BEGIN:VCALENDAR
VERSION:2.0
PRODID:-//ChamberMaster//Event Calendar 2.0//EN
METHOD:PUBLISH
X-PUBLISHED-TTL:P3D
REFRESH-INTERVAL:P3D
CALSCALE:GREGORIAN
BEGIN:VEVENT
DTSTART:20190414T170000Z
DTEND:20190414T190000Z
X-MICROSOFT-CDO-ALLDAYEVENT:FALSE
SUMMARY:Lakefront Open House
DESCRIPTION:RE/MAX Consultant Group Toth and Team will be hosting an Open House at their newest Lakefront property.  Check out the house with one of the prettiest lakefront views available.
X-ALT-DESC;FMTTYPE=text/html:RE/MAX Consultant Group Toth and Team will be hosting an Open House at their newest Lakefront property.&nbsp\; Check out the house with one of the prettiest lakefront views available.&nbsp\;
LOCATION:411 Greenacre Circle\, Howard
UID:e.2893.4284
SEQUENCE:3
DTSTAMP:20260421T153103Z
URL:http://knoxchamber.smartcms.site/events/details/lakefront-open-house-4284
END:VEVENT

END:VCALENDAR
