BEGIN:VCALENDAR
VERSION:2.0
PRODID:-//ChamberMaster//Event Calendar 2.0//EN
METHOD:PUBLISH
X-PUBLISHED-TTL:P3D
REFRESH-INTERVAL:P3D
CALSCALE:GREGORIAN
BEGIN:VEVENT
DTSTART:20210831T230000Z
DTEND:20210901T010000Z
X-MICROSOFT-CDO-ALLDAYEVENT:FALSE
SUMMARY:KSAAT Overdose Awareness Day
DESCRIPTION:The Knox Substance Abuse Action Team in partnership with Knox Community Hospital\, the Freedom Center\, Riverside Recovery and Hospice of Knox County are hosting an Overdose Awareness Day event to remember those lost to overdose. Resources will be available including Narcan education and distribution. Join us to honor those who have been victim to overdose death. Help raise more awareness and prevent more overdose deaths from happening in the coming years.\n\n\n\nClick Here for More Information
X-ALT-DESC;FMTTYPE=text/html:<span style="color: rgb(5\, 5\, 5)\; font-family: &quot\;Segoe UI Historic&quot\;\, &quot\;Segoe UI&quot\;\, Helvetica\, Arial\, sans-serif\; font-size: 15px\;">The Knox Substance Abuse Action Team in partnership with Knox Community Hospital\, the Freedom Center\, Riverside Recovery and Hospice of Knox County are hosting an Overdose Awareness Day event to remember those lost to overdose. Resources will be available including Narcan education and distribution. Join us to honor those who have been victim to overdose death. Help raise more awareness and prevent more overdose deaths from happening in the coming years.<br />\n<br />\n<strong><em><u><a href="https://www.facebook.com/events/520994959108364?acontext=%7B%22event_action_history%22%3A[%7B%22surface%22%3A%22page%22%7D]%7D">Click Here for More Information</a></u></em></strong></span>
LOCATION:404 South Gay Street\, Mount Vernon
UID:e.2893.4998
SEQUENCE:3
DTSTAMP:20260419T175055Z
URL:http://knoxchamber.smartcms.site/events/details/ksaat-overdose-awareness-day-4998
END:VEVENT

END:VCALENDAR
