BEGIN:VCALENDAR
VERSION:2.0
PRODID:-//ChamberMaster//Event Calendar 2.0//EN
METHOD:PUBLISH
X-PUBLISHED-TTL:P3D
REFRESH-INTERVAL:P3D
CALSCALE:GREGORIAN
BEGIN:VEVENT
DTSTART:20210805T160000Z
DTEND:20210805T170000Z
X-MICROSOFT-CDO-ALLDAYEVENT:FALSE
SUMMARY:KSAAT International Overdose Awareness Education Series: LOCAL RESOURCE PANEL
DESCRIPTION:Join KSAAT to learn more about local resources available to families and those seeking help for substance use disorder.\n\n\n\nClick Here for More Information
X-ALT-DESC;FMTTYPE=text/html:<div class="kvgmc6g5 cxmmr5t8 oygrvhab hcukyx3x c1et5uql" style="overflow-wrap: break-word\; margin: 0px\; font-family: inherit\;"><span class="d2edcug0 hpfvmrgz qv66sw1b c1et5uql lr9zc1uh a8c37x1j keod5gw0 nxhoafnm aigsh9s9 d3f4x2em fe6kdd0r mau55g9w c8b282yb iv3no6db jq4qci2q a3bd9o3v knj5qynh oo9gr5id" color:="" dir="auto" segoe="" style="line-height: 1.3333\; display: block\; overflow-wrap: break-word\; max-width: 100%\; min-width: 0px\; font-size: 0.9375rem\; font-family: " ui="" word-break:="">Join KSAAT to learn more about local resources available to families and those seeking help for substance use disorder.</span></div>\n\n<div><br />\n<em><strong><a href="https://www.facebook.com/events/529726971572816/?acontext=%7B%22event_action_history%22%3A[%7B%22surface%22%3A%22page%22%7D]%7D">Click Here for More Information</a></strong></em></div>\n\n<div class="k4urcfbm l9j0dhe7 stjgntxs ni8dbmo4 l82x9zwi uo3d90p7 pw54ja7n ue3kfks5" color:="" font-size:="" segoe="" style="width: 468.008px\; border-radius: 8px\; position: relative\; overflow: hidden\; font-family: " ui="">\n<div style="font-family: inherit\; height: 0px\;">&nbsp\;</div>\n</div>\n
LOCATION:Ramser 4-H Activity Center 700 Perimeter Drive\, Mount Vernon
UID:e.2893.4994
SEQUENCE:3
DTSTAMP:20260419T162603Z
URL:http://knoxchamber.smartcms.site/events/details/ksaat-international-overdose-awareness-education-series-local-resource-panel-4994
END:VEVENT

END:VCALENDAR
