BEGIN:VCALENDAR
VERSION:2.0
PRODID:-//ChamberMaster//Event Calendar 2.0//EN
METHOD:PUBLISH
X-PUBLISHED-TTL:P3D
REFRESH-INTERVAL:P3D
CALSCALE:GREGORIAN
BEGIN:VEVENT
DTSTART:20210812T160000Z
DTEND:20210812T170000Z
X-MICROSOFT-CDO-ALLDAYEVENT:FALSE
SUMMARY:KSAAT International Overdose Awareness Education Series: BRAIN DISEASE
DESCRIPTION:Join KSAAT to learn about substance use disorder a brain disease.\n\n\n\nClick Here for More Information
X-ALT-DESC;FMTTYPE=text/html:<span style="color: rgb(5\, 5\, 5)\; font-family: &quot\;Segoe UI Historic&quot\;\, &quot\;Segoe UI&quot\;\, Helvetica\, Arial\, sans-serif\; font-size: 15px\;">Join KSAAT to learn about substance use disorder a brain disease.<br />\n<br />\n<em><strong><u><a href="https://www.facebook.com/events/557512102054208/?acontext=%7B%22event_action_history%22%3A[%7B%22surface%22%3A%22page%22%7D]%7D">Click Here for More Information</a></u></strong></em></span>
LOCATION:Ramser 4-H Activity Center 700 Perimeter Drive\, Mount Vernon
UID:e.2893.4995
SEQUENCE:3
DTSTAMP:20260419T175223Z
URL:http://knoxchamber.smartcms.site/events/details/ksaat-international-overdose-awareness-education-series-brain-disease-4995
END:VEVENT

END:VCALENDAR
