BEGIN:VCALENDAR
VERSION:2.0
PRODID:-//ChamberMaster//Event Calendar 2.0//EN
METHOD:PUBLISH
X-PUBLISHED-TTL:P3D
REFRESH-INTERVAL:P3D
CALSCALE:GREGORIAN
BEGIN:VEVENT
DTSTART:20210513T190000Z
DTEND:20210513T200000Z
X-MICROSOFT-CDO-ALLDAYEVENT:FALSE
SUMMARY:KSAAT Communities Coming Together Webinar Series
DESCRIPTION:Join KSAAT for the Communities Coming Together Webinar Series. \n\nMay 13 at 3:00pm EST we welcome Rick Griffin\, Community Resilience Initiative. Rick is currently the Director of Training and Curriculum Development for Community Resilience Initiative (CRI)\, the nation's first community resilience network. Rick holds a Master's degree in Education and uses his education to develop innovative content and to deliver engaging presentations. He speaks to thousands of groups from all over the country and is widely recognized for his work with trauma-informed practices. As the former Executive Director of a trauma-informed therapeutic residential program for struggling teens\, Rick has first-hand experience with developing and implementing strategies and structures that foster resilience. His experience allows him to consult seamlessly with schools\, businesses\, and community organizations.\n\n \n\nMr. Griffin continues to be on the leading edge of training design. He has developed several\n\noutstanding trauma and resilience-based programs and practices including\; Racism from a\n\nNeurodevelopment Lens\, Fostering Resilience in the Family\, and Resilient Relationships: The\n\nSearch for Love\, Trust\, and Safety. He is currently working on his latest project Purpose\n\nDriven Play\, a series of games designed to equip individuals with the skills to overcome\n\nadversities. Amid all this Rick still finds the time for his highest priorities\, his faith\, his family\,\n\nand his friends.\n\n \n\nCommunity Resilience: I am\, because you are.\n\nThis session is about the power of supporting one another. It serve as reminder that we\n\nbelong to a greater whole and strong relationships are a pathway to healing.\n\nObjectives\n\n  Understand the importance of thinking collectively\n\n  Discover the power of positive affirmations\n\n  Consider how "showing up" for one another leads to healing\n\n \n\nClick here for the Zoom link
X-ALT-DESC;FMTTYPE=text/html:<strong><span style="color:#333333\;"><span style="font-family:cambria\,serif\;"><span style="font-size:12.0pt\;">Join KSAAT for the Communities Coming Together Webinar Series. </span></span></span></strong><br />\n<strong><span style="color:#333333\;"><span style="font-family:cambria\,serif\;"><span style="font-size:10.5pt\;">May 13 at 3:00pm EST </span></span></span></strong><span style="color:#333333\;"><span style="font-family:cambria\,serif\;"><span style="font-size:10.5pt\;">we welcome <strong>Rick Griffin\, </strong></span></span></span><span style="color:#333333\;"><span style="font-family:century gothic\,sans-serif\;"><span style="font-size:12.0pt\;"><a href="http://r20.rs6.net/tn.jsp?f=001Pr54ZDhHmOrVQUZlBZax6HqgaHVKvf2ffoj6Fif4UDHfDnmnb72z4kDVP7bAP7g-unm3NV_saspWkknYjkNBIj-1Krvyy4FlBIBG5MLW2cEVSIDVE1mvymae-xSRA2UR0WSMzdyyJcyOBghhoL0IcQ==&amp\;c=PdrzSwBakkkwOMTlB1F2YJzqhcf8fUFOSJjV3cMkdFS3o_LoAU9uGQ==&amp\;ch=kg935QIA-tn0thcoDW7a-mbIe4fkqqad7ubYs7sxXrtu2hxDbtYsaw==" target="_blank"><strong><span style="text-decoration:none\;text-underline:none\;"><span style="color:#333333\;"><span style="font-family:cambria\,serif\;"><span style="font-size:10.5pt\;">Community Resilience Initiative</span></span></span></span></strong></a></span></span></span><span style="color:#333333\;"><span style="font-family:cambria\,serif\;"><span style="font-size:10.5pt\;">. Rick is currently the</span></span></span> <span style="color:#333333\;"><span style="font-family:cambria\,serif\;"><span style="font-size:10.5pt\;">Director of Training and Curriculum Development for Community Resilience Initiative (CRI)\, the nation&rsquo\;s first community resilience network. Rick holds a Master&rsquo\;s degree in Education and uses his education to develop innovative content and to deliver engaging presentations. He speaks to thousands of groups from all over the country and is widely recognized for his work with trauma-informed practices. As the former Executive Director of a trauma-informed therapeutic residential program for struggling teens\, Rick has first-hand experience with developing and implementing strategies and structures that foster resilience. His experience allows him to consult seamlessly with schools\, businesses\, and community organizations.</span></span></span><br />\n&nbsp\;<br />\n<span style="color:#333333\;"><span style="font-family:cambria\,serif\;"><span style="font-size:10.5pt\;">Mr. Griffin continues to be on the leading edge of training design. He has developed several</span></span></span><br />\n<span style="color:#333333\;"><span style="font-family:cambria\,serif\;"><span style="font-size:10.5pt\;">outstanding trauma and resilience-based programs and practices including\; Racism from a</span></span></span><br />\n<span style="color:#333333\;"><span style="font-family:cambria\,serif\;"><span style="font-size:10.5pt\;">Neurodevelopment Lens\, Fostering Resilience in the Family\, and Resilient Relationships: The</span></span></span><br />\n<span style="color:#333333\;"><span style="font-family:cambria\,serif\;"><span style="font-size:10.5pt\;">Search for Love\, Trust\, and Safety. He is currently working on his latest project Purpose</span></span></span><br />\n<span style="color:#333333\;"><span style="font-family:cambria\,serif\;"><span style="font-size:10.5pt\;">Driven Play\, a series of games designed to equip individuals with the skills to overcome</span></span></span><br />\n<span style="color:#333333\;"><span style="font-family:cambria\,serif\;"><span style="font-size:10.5pt\;">adversities. Amid all this Rick still finds the time for his highest priorities\, his faith\, his family\,</span></span></span><br />\n<span style="color:#333333\;"><span style="font-family:cambria\,serif\;"><span style="font-size:10.5pt\;">and his friends.</span></span></span><br />\n&nbsp\;<br />\n<span style="color:#333333\;"><span style="font-family:century gothic\,sans-serif\;"><span style="font-size:12.0pt\;"><a href="http://r20.rs6.net/tn.jsp?f=001Pr54ZDhHmOrVQUZlBZax6HqgaHVKvf2ffoj6Fif4UDHfDnmnb72z4kDVP7bAP7g-nWpxb9tViZ1v7nSvPlkIkS5MGR9N5zXG4Ta5EfMGTbPOxhJ7SzsmyLt1Otxc7XhN_qAAmr6NiHFBNCvrYG9Wd_SHYz_nMYNUDnuPnTojLZJgqL4YbInX0BmWfJKIoYsZa3YmbXZ8nFLcbHJc0_CRYg==&amp\;c=PdrzSwBakkkwOMTlB1F2YJzqhcf8fUFOSJjV3cMkdFS3o_LoAU9uGQ==&amp\;ch=kg935QIA-tn0thcoDW7a-mbIe4fkqqad7ubYs7sxXrtu2hxDbtYsaw==" target="_blank"><strong><span style="text-decoration:none\;text-underline:none\;"><span style="color:#467EF6\;"><span style="font-family:cambria\,serif\;"><span style="font-size:10.5pt\;">Community Resilience: I am\, because you are.</span></span></span></span></strong></a></span></span></span><br />\n<span style="color:#333333\;"><span style="font-family:cambria\,serif\;"><span style="font-size:10.5pt\;">This session is about the power of supporting one another. It serve as reminder that we</span></span></span><br />\n<span style="color:#333333\;"><span style="font-family:cambria\,serif\;"><span style="font-size:10.5pt\;">belong to a greater whole and strong relationships are a pathway to healing.</span></span></span><br />\n<span style="color:#333333\;"><span style="font-family:cambria\,serif\;"><span style="font-size:10.5pt\;">Objectives</span></span></span><br />\n<span style="color:#333333\;"><span style="font-family:cambria\,serif\;"><span style="font-size:10.5pt\;">&bull\; Understand the importance of thinking collectively</span></span></span><br />\n<span style="color:#333333\;"><span style="font-family:cambria\,serif\;"><span style="font-size:10.5pt\;">&bull\; Discover the power of positive affirmations</span></span></span><br />\n<span style="color:#333333\;"><span style="font-family:cambria\,serif\;"><span style="font-size:10.5pt\;">&bull\; Consider how &ldquo\;showing up&rdquo\; for one another leads to healing</span></span></span><br />\n&nbsp\;<br />\n<span style="color:#333333\;"><span style="font-family:century gothic\,sans-serif\;"><span style="font-size:12.0pt\;"><a href="http://r20.rs6.net/tn.jsp?f=001Pr54ZDhHmOrVQUZlBZax6HqgaHVKvf2ffoj6Fif4UDHfDnmnb72z4kDVP7bAP7g-nWpxb9tViZ1v7nSvPlkIkS5MGR9N5zXG4Ta5EfMGTbPOxhJ7SzsmyLt1Otxc7XhN_qAAmr6NiHFBNCvrYG9Wd_SHYz_nMYNUDnuPnTojLZJgqL4YbInX0BmWfJKIoYsZa3YmbXZ8nFLcbHJc0_CRYg==&amp\;c=PdrzSwBakkkwOMTlB1F2YJzqhcf8fUFOSJjV3cMkdFS3o_LoAU9uGQ==&amp\;ch=kg935QIA-tn0thcoDW7a-mbIe4fkqqad7ubYs7sxXrtu2hxDbtYsaw==" target="_blank"><span style="text-decoration:none\;text-underline:none\;"><span style="color:#467EF6\;"><span style="font-family:cambria\,serif\;">Click here for the Zoom link</span></span></span></a></span></span></span>
LOCATION:Virtual
UID:e.2893.4881
SEQUENCE:3
DTSTAMP:20260419T211728Z
URL:http://knoxchamber.smartcms.site/events/details/ksaat-communities-coming-together-webinar-series-4881
END:VEVENT

END:VCALENDAR
