BEGIN:VCALENDAR
VERSION:2.0
PRODID:-//ChamberMaster//Event Calendar 2.0//EN
METHOD:PUBLISH
X-PUBLISHED-TTL:P3D
REFRESH-INTERVAL:P3D
CALSCALE:GREGORIAN
BEGIN:VEVENT
DTSTART:20181020T120000Z
DTEND:20181020T160000Z
X-MICROSOFT-CDO-ALLDAYEVENT:FALSE
SUMMARY:Kokosing River Run
DESCRIPTION:The race is on! Run or walk this 5K/10K that will loop through BFEC's southern trail system. Advance register online at racepenguin.com. Go to "events\," enter the date and then click on "Family Weekend Kokosing River Run." Registration on race day begins at 8:00 a.m.\, and the race will begin at 9:30. Participation Fees: $10 for the 5K\, $20 for the 10K. Sponsored by Kenyon's Social Board\, Brown Family Environmental Center\, Hillside Veterinary Clinic\, and other community partners!
X-ALT-DESC;FMTTYPE=text/html:The race is on! Run or walk this 5K/10K that will loop through BFEC&rsquo\;s southern trail system. Advance register online at racepenguin.com. Go to &ldquo\;events\,&rdquo\; enter the date and then click on &ldquo\;Family Weekend Kokosing River Run.&rdquo\; Registration on race day begins at 8:00 a.m.\, and the race will begin at 9:30. Participation Fees: $10 for the 5K\, $20 for the 10K. Sponsored by Kenyon&rsquo\;s Social Board\, Brown Family Environmental Center\, Hillside Veterinary Clinic\, and other community partners!
LOCATION:Brown Family Environmental Center 9781 Laymon Road\, Gambier
UID:e.2893.3804
SEQUENCE:3
DTSTAMP:20260422T010640Z
URL:http://knoxchamber.smartcms.site/events/details/kokosing-river-run-3804
END:VEVENT

END:VCALENDAR
