BEGIN:VCALENDAR
VERSION:2.0
PRODID:-//ChamberMaster//Event Calendar 2.0//EN
METHOD:PUBLISH
X-PUBLISHED-TTL:P3D
REFRESH-INTERVAL:P3D
CALSCALE:GREGORIAN
BEGIN:VEVENT
DTSTART:20210414T130000Z
DTEND:20210414T140000Z
X-MICROSOFT-CDO-ALLDAYEVENT:FALSE
SUMMARY:KnoxPages Virtual Presentation
DESCRIPTION:Jay Allred\, the President of  Knox Pages  and current Chair of  LION Publishers \, will walk us through the core problems in local news today\, how they affect our communities\, and what is being done to reimagine independent\, trustworthy local journalism in the 21st century.\n\n \n\nClick here for Jay's Bio.
X-ALT-DESC;FMTTYPE=text/html:<div style="color: rgb(46\, 47\, 47)\; font-family: Verdana\, Geneva\, sans-serif\; font-size: 16px\; white-space: pre-wrap\; text-align: center\;">Jay Allred\, the President of &#8203\;<span style="color: rgb(17\, 85\, 204)\;">Knox Pages&#8203\; </span>and current Chair of &#8203\;<span style="color: rgb(17\, 85\, 204)\;">LION Publishers&#8203\;</span>\, will walk us through the core problems in local news today\, how they affect our communities\, and what is being done to reimagine independent\, trustworthy local journalism in the 21st century.</div>\n\n<div style="color: rgb(46\, 47\, 47)\; font-family: Verdana\, Geneva\, sans-serif\; font-size: 16px\; white-space: pre-wrap\; text-align: center\;">&nbsp\;</div>\n\n<div style="color: rgb(46\, 47\, 47)\; font-family: Verdana\, Geneva\, sans-serif\; font-size: 16px\; white-space: pre-wrap\; text-align: center\;"><a data-link-type="document" href="https://chambermaster.blob.core.windows.net/userfiles/UserFiles/chambers/2893/File/KnoxPagesStory.pdf" rel="noopener noreferrer" style="color: rgb(66\, 139\, 202)\;" target="_blank">Click here for Jay&#39\;s Bio.</a></div>\n
LOCATION:Virtual Event
UID:e.2893.4842
SEQUENCE:3
DTSTAMP:20260420T004439Z
URL:http://knoxchamber.smartcms.site/events/details/knoxpages-virtual-presentation-4842
END:VEVENT

END:VCALENDAR
