BEGIN:VCALENDAR
VERSION:2.0
PRODID:-//ChamberMaster//Event Calendar 2.0//EN
METHOD:PUBLISH
X-PUBLISHED-TTL:P3D
REFRESH-INTERVAL:P3D
CALSCALE:GREGORIAN
BEGIN:VEVENT
DTSTART:20210315T160000Z
DTEND:20210315T170000Z
X-MICROSOFT-CDO-ALLDAYEVENT:FALSE
SUMMARY:Knox Technical Center offers 10 Day Lunch & Learn Microsoft Word Course
DESCRIPTION:Microsoft Office Word 2016 - Lunch & Learn\n\n \n\nPrice: $350/person  Group Class Price: Request Quote\n\n \n\nDelivery: Instructor-Led Live Online Training or In-Person Option. Attend from home or at KTC in our computer lab. \n\n \n\nDo you have a group of employees who need training? We can provide onsite training or group live online classes for you. The course can be scheduled based on the dates you provide (Subject to instructor availability).\n\n \n\nCourse Schedule:\n\nThis course will meet for 1-hour\, 12:00 PM to 1:00 PM on Monday\, Wednesday\, and Friday for two weeks\; from Monday 03/15/2021 through Friday 03/26/2021. Classes will be available in-person at Knox Technical Center or virtual via Zoom.\n\n \n\nCourse Description:\n\nUpon completion of this Customized Training course students will be able to demonstrate the correct application of the principal features of Word 2016 by creating and editing documents for a variety of purposes and situations. Document examples include professional-looking reports\, multi-column newsletters\, resumes\, and other business correspondence. Prior working knowledge of Microsoft Office Word is recommended.\n\n \n\nCertification (Microsoft Office Word (Exam 77-725):\n\nCourse completers will receive a certificate of completion from Knox Technical Center. A date for the certification examination will be determined and scheduled. Certification will take place at Knox Technical Center\, your local Microsoft Office Specialist Authorized Testing Center\, on the date and time scheduled. Each testing voucher will include one test and one retake. You must be on time for the scheduled certification examination.\n\n \n\nThose interested can call 740-393-2933\, ext. 1115 or email Kim Williams at kwilliams@knoxcc.org. \n\n \n\nVisit https://www.knoxtechnicalcenter.com/ for more information about our programs.
X-ALT-DESC;FMTTYPE=text/html:<strong><span style="font-family:tahoma\,sans-serif\;">Microsoft Office Word 2016 - Lunch &amp\; Learn</span></strong><br />\n&nbsp\;<br />\n<strong><span style="font-family:tahoma\,sans-serif\;">Price:</span></strong><span style="font-family:tahoma\,sans-serif\;"> $350/person </span><span style="font-family:segoe ui emoji\,sans-serif\;">&#10036\;</span><span style="font-family:tahoma\,sans-serif\;">Group Class Price: Request Quote</span><br />\n&nbsp\;<br />\n<strong><span style="font-family:tahoma\,sans-serif\;">Delivery</span></strong><span style="font-family:tahoma\,sans-serif\;">: Instructor-Led Live Online Training or In-Person Option. Attend from home or at KTC in our computer lab. </span><br />\n&nbsp\;<br />\n<span style="font-family:tahoma\,sans-serif\;">Do you have a group of employees who need training? We can provide onsite training or group live online classes for you. The course can be scheduled based on the dates you provide (Subject to instructor availability).</span><br />\n&nbsp\;<br />\n<strong><u>Course Schedule</u>:</strong><br />\n<strong>This course will meet for 1-hour\, 12:00 PM to 1:00 PM on Monday\, Wednesday\, and Friday for two weeks</strong>\; from Monday 03/15/2021 through Friday 03/26/2021. Classes will be available in-person at Knox Technical Center or virtual via Zoom.<br />\n&nbsp\;<br />\n<strong><u>Course Description:</u></strong><br />\nUpon completion of this Customized Training course students will be able to demonstrate the correct application of the principal features of Word 2016 by creating and editing documents for a variety of purposes and situations. Document examples include professional-looking reports\, multi-column newsletters\, resumes\, and other business correspondence. Prior working knowledge of Microsoft Office Word is recommended.<br />\n&nbsp\;<br />\n<strong><u>Certification (Microsoft Office Word (Exam 77-725):</u></strong><br />\nCourse completers will receive a certificate of completion from Knox Technical Center. A date for the certification examination will be determined and scheduled. Certification will take place at Knox Technical Center\, your local Microsoft Office Specialist Authorized Testing Center\, on the date and time scheduled. Each testing voucher will include one test and one retake. You must be on time for the scheduled certification examination.<br />\n&nbsp\;<br />\n<span style="font-family:tahoma\,sans-serif\;">Those interested can call 740-393-2933\, ext. 1115 or email Kim Williams at </span><a href="mailto:kwilliams@knoxcc.org"><span style="font-family:tahoma\,sans-serif\;">kwilliams@knoxcc.org</span></a><span style="font-family:tahoma\,sans-serif\;">. </span><br />\n&nbsp\;<br />\n<span style="font-family:tahoma\,sans-serif\;">Visit </span><a href="https://www.knoxtechnicalcenter.com/">https://www.knoxtechnicalcenter.com/</a> for more information about our programs.<br />\n&nbsp\;<br />\n&nbsp\;
LOCATION:Online
UID:e.2893.4839
SEQUENCE:3
DTSTAMP:20260420T005132Z
URL:http://knoxchamber.smartcms.site/events/details/knox-technical-center-offers-10-day-lunch-learn-microsoft-word-course-4839
END:VEVENT

END:VCALENDAR
