BEGIN:VCALENDAR
VERSION:2.0
PRODID:-//ChamberMaster//Event Calendar 2.0//EN
METHOD:PUBLISH
X-PUBLISHED-TTL:P3D
REFRESH-INTERVAL:P3D
CALSCALE:GREGORIAN
BEGIN:VEVENT
DTSTART:20181027T140000Z
DTEND:20181027T180000Z
X-MICROSOFT-CDO-ALLDAYEVENT:FALSE
SUMMARY:Knox Substance Abuse Action Team Annual Fall Roundup
DESCRIPTION:Knox Substance Abuse Action Team is hosting their Annual Fall Roundup! On Saturday\, October 27th\, from 10 am to 2 pm\, the community is encouraged to drop off their unused or expired medications at one of four different locations in Knox County.  NO LIQUID MEDICATIONS. \n\n\n\nClick here for more information!
X-ALT-DESC;FMTTYPE=text/html:<span style="color:#B22222\;"><em>Knox Substance Abuse Action Team</em></span> is hosting their Annual Fall Roundup! On Saturday\, October 27th\, from 10 am to 2 pm\, the community is encouraged to drop off their unused or expired medications at one of four different locations in Knox County.&nbsp\; <strong>NO LIQUID MEDICATIONS.&nbsp\;</strong><br />\n<br />\n<a href="https://chambermaster.blob.core.windows.net/userfiles/UserFiles/chambers/2893/File/Fall2018DrugDropOffFlyer_FullPage.jpg"><span style="color:#B22222\;">Click here for more information!</span></a>
LOCATION:Drop off Sites Include: -Knox County Health Department -Fredericktown Police Station -Fosters Healthmart Pharmacy in Centerburg -The Danville Police Department
UID:e.2893.3828
SEQUENCE:3
DTSTAMP:20260422T011100Z
URL:http://knoxchamber.smartcms.site/events/details/knox-substance-abuse-action-team-annual-fall-roundup-3828
END:VEVENT

END:VCALENDAR
