BEGIN:VCALENDAR
VERSION:2.0
PRODID:-//ChamberMaster//Event Calendar 2.0//EN
METHOD:PUBLISH
X-PUBLISHED-TTL:P3D
REFRESH-INTERVAL:P3D
CALSCALE:GREGORIAN
BEGIN:VEVENT
DTSTART:20181009T203000Z
DTEND:20181009T223000Z
X-MICROSOFT-CDO-ALLDAYEVENT:FALSE
SUMMARY:Knox County Task Force for Older Adults - Spaghetti Dinner
DESCRIPTION:The Knox County Task Force for Older Adults will be hosting their annual Spaghetti Dinner and Bake Sale on Tuesday\, October 9th at The Glenn A. Gallagher Centre in Mount Vernon!  With only the cost of a donation\, you can bring your family and friends for a delicious meal. No reservations are required\, and they also deliver if you order the day before the dinner! \n\nAll of the proceeds will go towards events and projects that benefit the older generation of Knox County!\n\n\n\nTo have a minimum of 10 meals delivered\, call 740-397-1706 the day before the dinner to order!\n\n\n\nClick here for more information!
X-ALT-DESC;FMTTYPE=text/html:<span style="color:#B22222\;"><em>The Knox County Task Force for Older Adults</em></span> will be hosting their annual Spaghetti Dinner and Bake Sale on Tuesday\, October 9th at The Glenn A. Gallagher Centre in Mount Vernon!&nbsp\; With only the cost of a donation\, you can bring your family and friends for a delicious meal. No reservations are required\, and they also deliver if you order the day before the dinner!&nbsp\;<br />\nAll of the proceeds will go towards events and projects that benefit the older generation of Knox County!<br />\n<br />\nTo have a minimum of 10 meals delivered\, call 740-397-1706 the day before the dinner to order!<br />\n<br />\n<a href="https://chambermaster.blob.core.windows.net/userfiles/UserFiles/chambers/2893/File/2018TaskForceSpaghettiDinnerPoster.pdf"><span style="color:#B22222\;">Click here for more information!</span></a>
LOCATION:The Glenn A. Gallagher Centre 1451 Gambier Road\, Mount Vernon
UID:e.2893.3802
SEQUENCE:3
DTSTAMP:20260422T010742Z
URL:http://knoxchamber.smartcms.site/events/details/knox-county-task-force-for-older-adults-spaghetti-dinner-3802
END:VEVENT

END:VCALENDAR
